BEGIN:VCALENDAR
VERSION:2.0
PRODID:-//wp-events-plugin.com//7.2.3.1//EN
TZID:America/New_York
X-WR-TIMEZONE:America/New_York
BEGIN:VEVENT
UID:1029@wvpst.org
DTSTART;TZID=America/New_York:20190817T000000
DTEND;TZID=America/New_York:20190817T000000
DTSTAMP:20190812T192211Z
URL:https://wvpst.org/events/emt-recertificaton-modules-mci-modules-12/
SUMMARY:EMT recertificaton modules + MCI modules 1&2
DESCRIPTION:West Virginia EMT recertification modules 1-6\, along with MCI 
 modules 1&amp\;2 will be offered at the Parsons VFD\, Parsons\, WV (Tucker
  County) from 8:00am to 12:00pm beginning on Saturday\, August 17\, 2019 w
 ith Module 1.  Subsequent modules\, and the MCI modules 1&amp\;2 class\, 
 will be held every other Saturday after that until complete.  A Hazmat aw
 areness class will also be offered in Tucker County at a date TBD to meet 
 that requirement as well.    Lynda Gray is the instructor.  Cost is $10
  per module\, and $50 total if all 6 modules are taken through WV Public S
 ervice Training.  To register\, please use the link below.  Contact the 
 WVPST office at 304-326-7581 or at bpotter.wvpst@gmail.com with any questi
 ons.
CATEGORIES:WVPST Clarksburg
LOCATION:\, \, 
X-APPLE-STRUCTURED-LOCATION;VALUE=URI;X-ADDRESS=\, ;X-APPLE-RADIUS=100;X-TI
 TLE=:geo:0,0
END:VEVENT
BEGIN:VTIMEZONE
TZID:America/New_York
X-LIC-LOCATION:America/New_York
BEGIN:DAYLIGHT
DTSTART:20190310T030000
TZOFFSETFROM:-0500
TZOFFSETTO:-0400
TZNAME:EDT
END:DAYLIGHT
END:VTIMEZONE
END:VCALENDAR