BEGIN:VCALENDAR
VERSION:2.0
PRODID:-//wp-events-plugin.com//7.2.3.1//EN
TZID:America/New_York
X-WR-TIMEZONE:America/New_York
BEGIN:VEVENT
UID:1222@wvpst.org
DTSTART;TZID=America/New_York:20200108T080000
DTEND;TZID=America/New_York:20200108T160000
DTSTAMP:20191220T201427Z
URL:https://wvpst.org/events/emt-recertification-modules-5-6/
SUMMARY:EMT Recertification Modules 5 & 6
DESCRIPTION:WV Public Service Training will be offering EMT Recertification
  Module 3 &amp\; 4 classes.\n\nLocation:  South Charleston Community Cent
 er\n\nDates:  January 8\, 15\, &amp\; 22\, 2020\n\nTimes:  8:00 AM – 4
 :00 PM\n\nThere are no fees associated with these classes.\n\nInstructor:
   Brent Burger
CATEGORIES:WVPST Charleston
LOCATION:South Charleston Community Center\, 601 Jefferson Rd.\, South Char
 leston\, WV\, 25309\, United States
GEO:38.357055;-81.71673
X-APPLE-STRUCTURED-LOCATION;VALUE=URI;X-ADDRESS=601 Jefferson Rd.\, South C
 harleston\, WV\, 25309\, United States;X-APPLE-RADIUS=100;X-TITLE=South Ch
 arleston Community Center:geo:38.357055,-81.71673
END:VEVENT
BEGIN:VTIMEZONE
TZID:America/New_York
X-LIC-LOCATION:America/New_York
BEGIN:STANDARD
DTSTART:20191103T010000
TZOFFSETFROM:-0400
TZOFFSETTO:-0500
TZNAME:EST
END:STANDARD
END:VTIMEZONE
END:VCALENDAR