BEGIN:VCALENDAR
VERSION:2.0
PRODID:-//wp-events-plugin.com//7.2.3.1//EN
TZID:America/New_York
X-WR-TIMEZONE:America/New_York
BEGIN:VEVENT
UID:1227@wvpst.org
DTSTART;TZID=America/New_York:20200111T090000
DTEND;TZID=America/New_York:20200111T210000
DTSTAMP:20191230T202358Z
URL:https://wvpst.org/events/emt-recertification-modules-3/
SUMMARY:EMT Recertification Modules
DESCRIPTION:EMT Recertification Modules\n\nThe six 4-hour EMT Recertificati
 on Modules will be taught at New Creek VFC on Saturday 1/11 and Saturday 1
 /25/2020 from 9 am to 9 pm.  Modules 1\, 2\, and 3 will be taught on Satu
 rday 1/11 and Modules 4\, 5\, and 6 will be taught on Saturday 1/25.  Cra
 ig Cox is the instructor.  Course fee is $10 per module or $50 if all 6 m
 odules are taken together.  The class will be cancelled if the minimum en
 rollment number is not met.\n\nClick here for a Course Flyer
CATEGORIES:WVPST Martinsburg
LOCATION:New Creek VFD\, WV-972\, New Creek\, WV\, 26743\, United States
GEO:39.370872;-79.031319
X-APPLE-STRUCTURED-LOCATION;VALUE=URI;X-ADDRESS=WV-972\, New Creek\, WV\, 2
 6743\, United States;X-APPLE-RADIUS=100;X-TITLE=New Creek VFD:geo:39.37087
 2,-79.031319
END:VEVENT
BEGIN:VTIMEZONE
TZID:America/New_York
X-LIC-LOCATION:America/New_York
BEGIN:STANDARD
DTSTART:20191103T010000
TZOFFSETFROM:-0400
TZOFFSETTO:-0500
TZNAME:EST
END:STANDARD
END:VTIMEZONE
END:VCALENDAR