BEGIN:VCALENDAR
VERSION:2.0
PRODID:-//wp-events-plugin.com//7.2.3.1//EN
TZID:America/New_York
X-WR-TIMEZONE:America/New_York
BEGIN:VEVENT
UID:1188@wvpst.org
DTSTART;TZID=America/New_York:20191212T190000
DTEND;TZID=America/New_York:20191212T230000
DTSTAMP:20191209T172504Z
URL:https://wvpst.org/events/emt-recertification-module-4-4/
SUMMARY:EMT Recertification Module 4
DESCRIPTION:Module 4:  Medical Emergencies II Management &amp\; Considerat
 ions Pediatric Cardiac Arrest\, OB Emergencies\, Special Healthcare Needs\
 n\nLocation:  Waverly VFD\n\nCost:  $10/module\n\nInstructor:  Mike Tan
 ner
CATEGORIES:WVPST Parkersburg
LOCATION:Waverly VFC\, 15425 Emerson Ave.\, Waverly\, WV\, 26184\, United S
 tates
GEO:39.339551;-81.398308
X-APPLE-STRUCTURED-LOCATION;VALUE=URI;X-ADDRESS=15425 Emerson Ave.\, Waverl
 y\, WV\, 26184\, United States;X-APPLE-RADIUS=100;X-TITLE=Waverly VFC:geo:
 39.339551,-81.398308
END:VEVENT
BEGIN:VTIMEZONE
TZID:America/New_York
X-LIC-LOCATION:America/New_York
BEGIN:STANDARD
DTSTART:20191103T010000
TZOFFSETFROM:-0400
TZOFFSETTO:-0500
TZNAME:EST
END:STANDARD
END:VTIMEZONE
END:VCALENDAR