BEGIN:VCALENDAR
VERSION:2.0
PRODID:-//wp-events-plugin.com//7.2.3.1//EN
TZID:America/New_York
X-WR-TIMEZONE:America/New_York
BEGIN:VEVENT
UID:102@wvpst.org
DTSTART;TZID=America/New_York:20170808T090000
DTEND;TZID=America/New_York:20170808T170000
DTSTAMP:20170730T000600Z
URL:https://wvpst.org/events/emt-recertification-5/
SUMMARY:EMT Recertification
DESCRIPTION:EMT Recertification\n\nA 28-hour EMT Recertification class will
  be held at the Medic 98 Station in Inwood\, WV starting Tuesday\, August 
 8\, 2017 at 9:00 am.  The class will meet weekdays 9 am to 5 pm on August
  8\, 9\, 14\, &amp\; 15.  Test date TBD.  Ryan Barry is the lead instruc
 tor.  Course Fee is $50.\n\nApplicants must provide documentation of a mi
 nimum of 20 hours of Continuing Education\, including MCI or Disaster Mana
 gement related training including drills (2 hours)\, Annual HazMat Awarene
 ss training (8 hours)\, EMT BLS Protocol Review (4 hours)\, and an additio
 nal 6 hours of CE.   Applicants must provide a copy of a current CPR Car
 d.  WVOEMS charges a $25 application fee for EMT recertification.  Skill
 s Evaluation form must be signed by Agency Medical Director.\n\nClick here
  for a course flyer\n\nEMT Recert Class Information for Participants
CATEGORIES:WVPST Martinsburg
LOCATION:Medic 98 Station\, 7146 Winchester Ave\, Inwood\, United States
GEO:39.3677027;-78.03173149999998
X-APPLE-STRUCTURED-LOCATION;VALUE=URI;X-ADDRESS=7146 Winchester Ave\, Inwoo
 d\, United States;X-APPLE-RADIUS=100;X-TITLE=Medic 98 Station:geo:39.36770
 27,-78.03173149999998
END:VEVENT
BEGIN:VTIMEZONE
TZID:America/New_York
X-LIC-LOCATION:America/New_York
BEGIN:DAYLIGHT
DTSTART:20170312T030000
TZOFFSETFROM:-0500
TZOFFSETTO:-0400
TZNAME:EDT
END:DAYLIGHT
END:VTIMEZONE
END:VCALENDAR