BEGIN:VCALENDAR
VERSION:2.0
PRODID:-//wp-events-plugin.com//7.2.3.1//EN
TZID:America/New_York
X-WR-TIMEZONE:America/New_York
BEGIN:VEVENT
UID:503@wvpst.org
DTSTART;TZID=America/New_York:20180531T173000
DTEND;TZID=America/New_York:20180531T203000
DTSTAMP:20180522T175734Z
URL:https://wvpst.org/events/emt-practical-skills-evaluations-6/
SUMMARY:EMT Practical Skills Evaluations
DESCRIPTION:EMT Practical Skills Evaluations\n\nPractical Skills Evaluation
 s will be conducted at JCESA in Ranson on Thursday\, May 31\, 2018 at 5:30
  pm.  This is for a particular class but others can participate by making
  prior arrangements with David Plume at the WVPST Martinsburg Office.  Th
 ere is a $50 testing fee for anyone who is not enrolled in a WVPST EMT or 
 EMT Recertification class.
CATEGORIES:WVPST Martinsburg
LOCATION:JCESA\, Ranson\, 419 16th Ave\, Ranson\, United States
GEO:39.3093497;-77.85679060000001
X-APPLE-STRUCTURED-LOCATION;VALUE=URI;X-ADDRESS=419 16th Ave\, Ranson\, Uni
 ted States;X-APPLE-RADIUS=100;X-TITLE=JCESA\, Ranson:geo:39.3093497,-77.85
 679060000001
END:VEVENT
BEGIN:VTIMEZONE
TZID:America/New_York
X-LIC-LOCATION:America/New_York
BEGIN:DAYLIGHT
DTSTART:20180311T030000
TZOFFSETFROM:-0500
TZOFFSETTO:-0400
TZNAME:EDT
END:DAYLIGHT
END:VTIMEZONE
END:VCALENDAR