BEGIN:VCALENDAR
VERSION:2.0
PRODID:-//wp-events-plugin.com//7.2.3.1//EN
TZID:America/New_York
X-WR-TIMEZONE:America/New_York
BEGIN:VEVENT
UID:452@wvpst.org
DTSTART;TZID=America/New_York:20180323T180000
DTEND;TZID=America/New_York:20180323T210000
DTSTAMP:20180313T145632Z
URL:https://wvpst.org/events/emt-practical-skills-evaluations-4/
SUMMARY:EMT Practical Skills Evaluations
DESCRIPTION:EMT Practical Skills Evaluations\n\nEMT Practical Skills Evalua
 tions will be conducted at New Creek VFD on Friday\, March 23\, 2018 at 6:
 00 pm.  This is for a particular class but others can participate.  Ther
 e is a $50 fee for those who are not enrolled in a WVPST EMT or EMT Recert
 ification class.
CATEGORIES:WVPST Martinsburg
LOCATION:New Creek VFD\, WV-972\, New Creek\, WV\, 26743\, United States
GEO:39.3708706;-79.03131970000004
X-APPLE-STRUCTURED-LOCATION;VALUE=URI;X-ADDRESS=WV-972\, New Creek\, WV\, 2
 6743\, United States;X-APPLE-RADIUS=100;X-TITLE=New Creek VFD:geo:39.37087
 06,-79.03131970000004
END:VEVENT
BEGIN:VTIMEZONE
TZID:America/New_York
X-LIC-LOCATION:America/New_York
BEGIN:DAYLIGHT
DTSTART:20180311T030000
TZOFFSETFROM:-0500
TZOFFSETTO:-0400
TZNAME:EDT
END:DAYLIGHT
END:VTIMEZONE
END:VCALENDAR