BEGIN:VCALENDAR
VERSION:2.0
PRODID:-//wp-events-plugin.com//7.2.3.1//EN
TZID:America/New_York
X-WR-TIMEZONE:America/New_York
BEGIN:VEVENT
UID:2668@wvpst.org
DTSTART;TZID=America/New_York:20240123T080000
DTEND;TZID=America/New_York:20240123T160000
DTSTAMP:20231216T155750Z
URL:https://wvpst.org/events/emt-pendleton-county-emergency-rescue/
SUMMARY:EMT - Upper Tract VFD Training Center
DESCRIPTION:WV Public Service Training will be conducting an Emergency Medi
 cal Technician course beginning January 23rd at the Upper Tract VFD Traini
 ng Center. Classes will  meet 8am - 4pm two days a week. Those days will 
 be discussed the first week of class.\n\nMichael Alt will be the instructo
 r.\n\nAll Students are required to have a laptop computer for class!\n\nTi
 me: 8:00 am to 4:00 pm\n\nThis 155 hour minimum program is the basic level
  of EMT care by the West Virginia Office of Emergency Medical Services. Th
 is class meets the National Standards Curriculum.  The EMT candidate must
  successfully complete the program\, complete required clinical time\, com
 plete the practical skills testing\, and obtain a passing score on the c
 omputer-based National Registry exam. Recertification is required by Natio
 nal Registry every two years.\n\nUpon successful completion of the course\
 , you will be eligible to sit for the National Registry of EMTs exam. If 
 seeking certification in a state other than WV\, you will not need to comp
 lete the WV certification process/fees\, and will simply need to pass prac
 tical testing and NREMT examination before proceeding with the certificati
 on process in your desired state.\n\n&nbsp\;\n\nPRE-REGISTRATION REQUIRED!
 !\n\n&nbsp\;\n\nInitial EMT FLYER - Pendleton County
CATEGORIES:WVPST Martinsburg
LOCATION:Pendleton County Emergence Rescue\, PO Box 727\, Franklin\, WV\, 2
 6807\, United States
GEO:38.642895;-79.331153
X-APPLE-STRUCTURED-LOCATION;VALUE=URI;X-ADDRESS=PO Box 727\, Franklin\, WV\
 , 26807\, United States;X-APPLE-RADIUS=100;X-TITLE=Pendleton County Emerge
 nce Rescue:geo:38.642895,-79.331153
END:VEVENT
BEGIN:VTIMEZONE
TZID:America/New_York
X-LIC-LOCATION:America/New_York
BEGIN:STANDARD
DTSTART:20231105T010000
TZOFFSETFROM:-0400
TZOFFSETTO:-0500
TZNAME:EST
END:STANDARD
END:VTIMEZONE
END:VCALENDAR