BEGIN:VCALENDAR
VERSION:2.0
PRODID:-//wp-events-plugin.com//7.2.3.1//EN
TZID:America/New_York
X-WR-TIMEZONE:America/New_York
BEGIN:VEVENT
UID:2866@wvpst.org
DTSTART;TZID=America/New_York:20251213T090000
DTEND;TZID=America/New_York:20251213T170000
DTSTAMP:20251211T183706Z
URL:https://wvpst.org/events/emt-m-8-hour-recert/
SUMMARY:EMT-M 8 Hour Recert
DESCRIPTION:EMT M 8 hour recert for the Mining Industry.\n\n12/13/2025 at 9
 am\n\nBest Ambulance\n\n1801 Robert C. Byrd\n\nBeckley\, WV 25801\n\n Fee
 : $60.00 per person\n\nPayable by check or money order made out to EPIC. \
 n\nPre-Register at the link below\n\nhttps://forms.gle/1rHLcoUu1fseL3Y86\n
 Questions??\n\nEmail: Robert.d.bailey@wvesc.org
CATEGORIES:WVPST Beckley
LOCATION:Best Ambulance\, 1801 Robert C Byrd Drive\, Beckley\, WV\, 25801\,
  
GEO:37.751672;-81.220752
X-APPLE-STRUCTURED-LOCATION;VALUE=URI;X-ADDRESS=1801 Robert C Byrd Drive\, 
 Beckley\, WV\, 25801\, ;X-APPLE-RADIUS=100;X-TITLE=Best Ambulance:geo:37.7
 51672,-81.220752
END:VEVENT
BEGIN:VTIMEZONE
TZID:America/New_York
X-LIC-LOCATION:America/New_York
BEGIN:STANDARD
DTSTART:20251102T010000
TZOFFSETFROM:-0400
TZOFFSETTO:-0500
TZNAME:EST
END:STANDARD
END:VTIMEZONE
END:VCALENDAR