BEGIN:VCALENDAR
VERSION:2.0
PRODID:-//wp-events-plugin.com//7.2.3.1//EN
TZID:America/New_York
X-WR-TIMEZONE:America/New_York
BEGIN:VEVENT
UID:2867@wvpst.org
DTSTART;TZID=America/New_York:20251220T080000
DTEND;TZID=America/New_York:20251220T160000
DTSTAMP:20251211T183639Z
URL:https://wvpst.org/events/emt-m-8-hour-recert-2/
SUMMARY:EMT-M 8 Hour Recert
DESCRIPTION:8 Hour EMT-M recert for the Mining Industry\n\n12/20/2025\n\nPi
 neville VFD\n\n12 Park Street\n\nPineville\, WV 24874\n\n Fee: $60.00 per
  person\n\nPayable by check or money order made out to EPIC. \n\nPrPre-Reg
 ister at the link below\n\nhttps://forms.gle/1rHLcoUu1fseL3Y86\nQuestions?
 ?\n\nEmail: Robert.d.bailey@wvesc.org
CATEGORIES:WVPST Beckley
LOCATION:Pineville VFD\, 12 Park Street\, Pineville\, WV\, 24874\, Wyoming 
 County \, United States
GEO:37.5807175;-81.53534209999998
X-APPLE-STRUCTURED-LOCATION;VALUE=URI;X-ADDRESS=12 Park Street\, Pineville\
 , WV\, 24874\, Wyoming County \, United States;X-APPLE-RADIUS=100;X-TITLE=
 Pineville VFD:geo:37.5807175,-81.53534209999998
END:VEVENT
BEGIN:VTIMEZONE
TZID:America/New_York
X-LIC-LOCATION:America/New_York
BEGIN:STANDARD
DTSTART:20251102T010000
TZOFFSETFROM:-0400
TZOFFSETTO:-0500
TZNAME:EST
END:STANDARD
END:VTIMEZONE
END:VCALENDAR