BEGIN:VCALENDAR
VERSION:2.0
PRODID:-//wp-events-plugin.com//7.2.3.1//EN
TZID:America/New_York
X-WR-TIMEZONE:America/New_York
BEGIN:VEVENT
UID:453@wvpst.org
DTSTART;TZID=America/New_York:20180330T180000
DTEND;TZID=America/New_York:20180330T200000
DTSTAMP:20180313T145923Z
URL:https://wvpst.org/events/emt-initial-written-test/
SUMMARY:EMT Initial Written Test
DESCRIPTION:EMT Initial Written Test\n\nThe WVOEMS Written test for initial
  EMT Certification will be administered at New Creek VFD on Friday\, March
  30\, 2018 at 6:00 pm.  This is for a particular class but others who are
  qualified to test or retest can participate by contacting David Plume at 
 WVPST Martinsburg.
CATEGORIES:WVPST Martinsburg
LOCATION:New Creek VFD\, WV-972\, New Creek\, WV\, 26743\, United States
GEO:39.3708706;-79.03131970000004
X-APPLE-STRUCTURED-LOCATION;VALUE=URI;X-ADDRESS=WV-972\, New Creek\, WV\, 2
 6743\, United States;X-APPLE-RADIUS=100;X-TITLE=New Creek VFD:geo:39.37087
 06,-79.03131970000004
END:VEVENT
BEGIN:VTIMEZONE
TZID:America/New_York
X-LIC-LOCATION:America/New_York
BEGIN:DAYLIGHT
DTSTART:20180311T030000
TZOFFSETFROM:-0500
TZOFFSETTO:-0400
TZNAME:EDT
END:DAYLIGHT
END:VTIMEZONE
END:VCALENDAR