BEGIN:VCALENDAR
VERSION:2.0
PRODID:-//wp-events-plugin.com//7.2.3.1//EN
TZID:America/New_York
X-WR-TIMEZONE:America/New_York
BEGIN:VEVENT
UID:2565@wvpst.org
DTSTART;TZID=America/New_York:20231017T180000
DTEND;TZID=America/New_York:20231017T220000
DTSTAMP:20230829T140222Z
URL:https://wvpst.org/events/emt-initial-willey-ford-volunteer-fire-compan
 y/
SUMMARY:EMT - Initial Wiley Ford Volunteer Fire Company
DESCRIPTION:WV Public Service Training will be conducting an Emergency Medi
 cal Technician course beginning October 17 starting at 6pm at the Willey F
 ord VFC. Classes will  meet Tuesdays and Thursdays from 6-10. Weekend req
 uirements will be discussed during first class.\n\nPaula Detrick will be t
 he lead instructor.\n\nAll Students are required to have a laptop computer
  for class!\n\nTime: 6pm-10pm\n\nThis 155 hour minimum program is the basi
 c level of EMT care by the West Virginia Office of Emergency Medical Servi
 ces. This class meets the National Standards Curriculum.  The EMT candida
 te must successfully complete the program\, complete required clinical tim
 e\, complete the practical skills testing\, and obtain a passing score on
  the computer-based National Registry exam. Recertification is required b
 y National Registry every two years.\n\nUpon successful completion of the 
 course\, you will be eligible to sit for the National Registry of EMTs exa
 m. If seeking certification in a state other than WV\, you will not need 
 to complete the WV certification process/fees\, and will simply need to pa
 ss practical testing and NREMT examination before proceeding with the cert
 ification process in your desired state.\n\n&nbsp\;\n\nPRE-REGISTRATION RE
 QUIRED!!\n\n&nbsp\;\n\nWilley Ford EMT FLYER\n\n&nbsp\;
CATEGORIES:WVPST Martinsburg
LOCATION:Willey Ford VFC\, Spring Street \, Willey Ford\, WV\, 26767\, Unit
 ed States
GEO:39.616374;-78.775265
X-APPLE-STRUCTURED-LOCATION;VALUE=URI;X-ADDRESS=Spring Street \, Willey For
 d\, WV\, 26767\, United States;X-APPLE-RADIUS=100;X-TITLE=Willey Ford VFC:
 geo:39.616374,-78.775265
END:VEVENT
BEGIN:VTIMEZONE
TZID:America/New_York
X-LIC-LOCATION:America/New_York
BEGIN:DAYLIGHT
DTSTART:20230312T030000
TZOFFSETFROM:-0500
TZOFFSETTO:-0400
TZNAME:EDT
END:DAYLIGHT
END:VTIMEZONE
END:VCALENDAR