BEGIN:VCALENDAR
VERSION:2.0
PRODID:-//wp-events-plugin.com//7.2.3.1//EN
TZID:America/New_York
X-WR-TIMEZONE:America/New_York
BEGIN:VEVENT
UID:2570@wvpst.org
DTSTART;TZID=America/New_York:20230926T180000
DTEND;TZID=America/New_York:20230926T220000
DTSTAMP:20230821T163656Z
URL:https://wvpst.org/events/emt-initial-united-technical-center-3/
SUMMARY:EMT Initial - United Technical Center
DESCRIPTION:This approximately 155-hour course is being conducted at United
  Technical Center in Clarksburg\, WV (Harrison County) beginning Tuesday\,
  September 26\, 2023 at 6:00pm.  Class will meet on the following dates: 
 September 26\, 27\, 29\; October 3\, 7\, 9\, 12\, 16\, 18\, 21\, 22\, 24\,
  29\; November 2\, 5\, 8\, 10\, 14\, 17\, and 18\, 2023.  Class will meet
  5pm - 10pm on weeknights and 8am - 6pm on weekend dates.  The course ins
 tructors are Nick Wade and Jimmy Glasscock.  Students MUST bring a laptop
  or tablet to the orientation session on September 26.  Students must hav
 e access to a computer outside of the classroom\, reliable internet\, and 
 be self motivated to complete assignments and spend time studying outside 
 of formal class hours.\n\nThe course requires a clinical component to be c
 ompleted outside of class hours during which you will ride along with an E
 MS agency to complete 10 patient assessments. These assessments must be co
 mpleted in order to obtain WV certification as an EMT.  You will receive 
 more information on the clinical component during the class.\n\nUpon succe
 ssful completion of the course\, you will be eligible to sit for the Natio
 nal Registry of EMTs exam\, with the initial exam attempt\, as mentioned a
 bove\, being included within the course tuition.  This test will be sched
 uled at your convenience at a Pearson Vue testing center.  If seeking cer
 tification in a state other than WV\, you will not need to complete the WV
  certification process/fees\, and will simply need to pass practical testi
 ng and NREMT examination before proceeding with the certification process 
 in your desired state.\n\nPre- registration for this class is required. wi
 th class size being limited to 20 students.  Absence allowance is 10% of 
 the total class hours = 15 hours. Make up of missed classes will be at the
  discretion of the course instructor.\n\nCourse cost is $650 and includes:
  tuition\, textbook\, access to EMS testing program\, and 1st attempt NREM
 T exam voucher (upon successful completion of course requirements).  Stat
 e of WV licensing fees are separate and are the responsibility of the stud
 ent if seeking WV certification.  Course fees\, or an authorization to in
 voice agency form\, are due by the first class session.\n\nInterested pers
 ons can register by clicking here.\n\nIf no seats show as available\, cont
 act the PST office to be placed on a waiting list.\n\nPlease contact the W
 V Public Service Training office at brian.potter@wvesc.org or 304-326-758
 1 with any questions.
CATEGORIES:WVPST Clarksburg
LOCATION:United Technical Center\, 251 Marietta St.\, Clarksburg\, WV\, 263
 01\, United States
GEO:39.272694;-80.463145
X-APPLE-STRUCTURED-LOCATION;VALUE=URI;X-ADDRESS=251 Marietta St.\, Clarksbu
 rg\, WV\, 26301\, United States;X-APPLE-RADIUS=100;X-TITLE=United Technica
 l Center:geo:39.272694,-80.463145
END:VEVENT
BEGIN:VTIMEZONE
TZID:America/New_York
X-LIC-LOCATION:America/New_York
BEGIN:DAYLIGHT
DTSTART:20230312T030000
TZOFFSETFROM:-0500
TZOFFSETTO:-0400
TZNAME:EDT
END:DAYLIGHT
END:VTIMEZONE
END:VCALENDAR