BEGIN:VCALENDAR
VERSION:2.0
PRODID:-//wp-events-plugin.com//7.2.3.1//EN
TZID:America/New_York
X-WR-TIMEZONE:America/New_York
BEGIN:VEVENT
UID:1829@wvpst.org
DTSTART;TZID=America/New_York:20211004T173000
DTEND;TZID=America/New_York:20211004T213000
DTSTAMP:20210915T130215Z
URL:https://wvpst.org/events/emt-initial-kingwood/
SUMMARY:EMT Initial - Kingwood (Revised start date)
DESCRIPTION:This approximately 155-hour course is being conducted at Kingwo
 od VFD in Kingwood\, WV (Preston County) beginning October 4\, 2021 at 5:3
 0pm.  Class dates are October 4\, 7\, 12\, 15\, 16\, 18\, 21\, 25\, 28\; 
 November 2\, 5\, 6\, 8\, 15\, 18\, 20\, 29\; December 2\, 6\, 9\, 14\, 17\
 , 18\, 20\, and 27\, 2021.  Additional class dates in January 2022 to fin
 ish out the course will be scheduled once class begins.  Weekday classes 
 will meet 6-10pm and weekend classes will meet 9am-5pm.  Occasionally\, a
  class session may be held in a virtual format as opposed to in person.  
 The instructor will discuss these details once class begins.  The course 
 instructor is Courtney Chaney.  Students must have access to a computer\,
  reliable internet\, and be self motivated to complete assignments and spe
 nd time studying outside of formal class hours.\n\nThe textbook\, first NR
 EMT testing fee and FISDAP entrance and exit exam fees will all be covered
  for this class through a grant through the WV Jobs and Hope program (WV R
 esidents only).  The student will be responsible for class tuition fee of
  $300 (due by 4th class session).  Student will also be responsible for W
 V State Certification fees which are separate from WVPST course costs.\n\n
 The course also requires a clinical component to be completed outside of c
 lass hours during which you will ride along with an EMS agency to complete
  10 patient assessments. These assessments must be completed in order to o
 btain WV certification as an EMT.  You will receive more information on t
 he clinical component during the class.\n\nUpon successful completion of t
 he course\, you will be eligible to sit for the National Registry of EMTs 
 exam\, with the initial exam attempt\, as mentioned above\, being included
  within the course tuition.  This test will be scheduled at your convenie
 nce at a Pearson Vue testing center.  If seeking certification in a state
  other than WV\, you will not need to complete the WV certification proces
 s/fees\, and will simply need to pass practical testing and NREMT examinat
 ion before proceeding with the certification process in your desired state
 .\n\nIf seeking certification in West Virginia at the conclusion of the co
 urse\, the West Virginia Office of EMS requires a $75 fee for certificatio
 n which is paid online\, and a $45 fee for fingerprinting/criminal backgro
 und check. You will receive directions on that process during the class.\n
 \nPre- registration for this class is required. with class size being limi
 ted to 15 students.  Absence allowance is 10% of the total class hours = 
 15 hours. Make up of missed classes will be at the discretion of the cours
 e instructor.\n\nInterested persons should register below by filling in th
 e appropriate information.  Those students preregistered will receive an 
 email with exact course location prior to the first class meeting.\n\nIf n
 o seats show as available\, contact the PST office to be placed on a waiti
 ng list.\n\nPlease contact the WV Public Service Training office at brian.
 potter@wvesc.org or 304-326-7581 with any questions.
CATEGORIES:WVPST Clarksburg
LOCATION:Kingwood VFD\, 115 Brown Avenue\, Kingwood\, West Virginia\, 26537
 \, United States
GEO:39.469412;-79.688885
X-APPLE-STRUCTURED-LOCATION;VALUE=URI;X-ADDRESS=115 Brown Avenue\, Kingwood
 \, West Virginia\, 26537\, United States;X-APPLE-RADIUS=100;X-TITLE=Kingwo
 od VFD:geo:39.469412,-79.688885
END:VEVENT
BEGIN:VTIMEZONE
TZID:America/New_York
X-LIC-LOCATION:America/New_York
BEGIN:DAYLIGHT
DTSTART:20210314T030000
TZOFFSETFROM:-0500
TZOFFSETTO:-0400
TZNAME:EDT
END:DAYLIGHT
END:VTIMEZONE
END:VCALENDAR