BEGIN:VCALENDAR
VERSION:2.0
PRODID:-//wp-events-plugin.com//7.2.3.1//EN
TZID:America/New_York
X-WR-TIMEZONE:America/New_York
BEGIN:VEVENT
UID:982@wvpst.org
DTSTART;TZID=America/New_York:20190805T180000
DTEND;TZID=America/New_York:20190805T220000
DTSTAMP:20190708T183224Z
URL:https://wvpst.org/events/emt-initial-class-10/
SUMMARY:EMT Initial Class
DESCRIPTION:Emergency Medical Technician (EMT)\n\nThis 155 hour minimum pro
 gram is the basic level of EMT care by the West Virginia Office of Emergen
 cy Medical Services. This class meets the National Standards Curriculum. 
  The EMT candidate must successfully complete the program\, complete requi
 red clinical time\, complete the practical skills testing\, and obtain a 
 passing score on the WVOEMS state option test or the computer-based Natio
 nal Registry exam. Certification will be good for 4 years.\n\nDates:   
           Monday August 5\, 2019-December 2019\n\nDays:     
       Mondays and Wednesdays: 6 pm – 10 pm\n\nInstructor (s): Mike
  Tanner \n\nFee:   Tuition $300.00 + books and code $350 = $650 pay to 
 Mountain State ESC\n\n$ 120.00 WVOEMS State Fees &amp\; Finger Prints (thr
 ough Continuum)\n\n$ 80.00 National Registry\n\nFEES DUE FIRST NIGHT OF CL
 ASS!\n\nTo Register\, please contact Eva Godbey at 304-766-0011 ext. 22. 
  \n\n&nbsp\;\n\nYou may copy the below information into an email and subm
 it to eva.godbey@k12.wv.us to register:\n\nName:  _______________________
 _____________________________________\n\n Date of Birth:  ______________
 ________________________________________\n\n Address: ___________________
 _______________________________________\n\n City/State:  _______________
 _____________________ Postal Code: __________\n\n Phone Number: _________
 _______ Email Address: _________________________\n\n Affiliation: _______
 _________________________________________________
CATEGORIES:WVPST Parkersburg
LOCATION:Parkersburg Fire Station 6\, 2311 Camden Ave.\, Parkersburg\, WV\,
  25101\, United States
GEO:39.2551835;-81.54927780000003
X-APPLE-STRUCTURED-LOCATION;VALUE=URI;X-ADDRESS=2311 Camden Ave.\, Parkersb
 urg\, WV\, 25101\, United States;X-APPLE-RADIUS=100;X-TITLE=Parkersburg Fi
 re Station 6:geo:39.2551835,-81.54927780000003
END:VEVENT
BEGIN:VTIMEZONE
TZID:America/New_York
X-LIC-LOCATION:America/New_York
BEGIN:DAYLIGHT
DTSTART:20190310T030000
TZOFFSETFROM:-0500
TZOFFSETTO:-0400
TZNAME:EDT
END:DAYLIGHT
END:VTIMEZONE
END:VCALENDAR