BEGIN:VCALENDAR
VERSION:2.0
PRODID:-//wp-events-plugin.com//7.2.3.1//EN
TZID:America/New_York
X-WR-TIMEZONE:America/New_York
BEGIN:VEVENT
UID:2382@wvpst.org
DTSTART;TZID=America/New_York:20230321T080000
DTEND;TZID=America/New_York:20230321T170000
DTSTAMP:20230202T180211Z
URL:https://wvpst.org/events/emt-initial-37/
SUMMARY:EMT - Initial
DESCRIPTION:WV Public Service Training will be conducting an Emergency Medi
 cal Technician course beginning March 21\, 2023 at the Augusta VFD. Classe
 s will  meet Tuesdays and Thursdays from 8 - 5.\n\nCourtney Turner will b
 e the instructor.\n\nAll Students are required to have a laptop computer f
 or class!\n\nTime: 8am-5pm\n\nThis 155 hour minimum program is the basic l
 evel of EMT care by the West Virginia Office of Emergency Medical Services
 . This class meets the National Standards Curriculum.  The EMT candidate 
 must successfully complete the program\, complete required clinical time\,
  complete the practical skills testing\, and obtain a passing score on th
 e computer-based National Registry exam. Recertification is required by N
 ational Registry every two years.\n\nUpon successful completion of the cou
 rse\, you will be eligible to sit for the National Registry of EMTs exam.
  If seeking certification in a state other than WV\, you will not need to
  complete the WV certification process/fees\, and will simply need to pass
  practical testing and NREMT examination before proceeding with the certif
 ication process in your desired state.\n\n&nbsp\;\n\nPRE-REGISTRATION REQU
 IRED!!\n\n&nbsp\;\n\nAugusta Initial EMT Flyer\n\n&nbsp\;
CATEGORIES:WVPST Martinsburg
LOCATION:Augusta VFD\, 15690 Northwestern Turnpike\, Augusta\, United State
 s
GEO:39.2976697;-78.61816679999998
X-APPLE-STRUCTURED-LOCATION;VALUE=URI;X-ADDRESS=15690 Northwestern Turnpike
 \, Augusta\, United States;X-APPLE-RADIUS=100;X-TITLE=Augusta VFD:geo:39.2
 976697,-78.61816679999998
END:VEVENT
BEGIN:VTIMEZONE
TZID:America/New_York
X-LIC-LOCATION:America/New_York
BEGIN:DAYLIGHT
DTSTART:20230312T030000
TZOFFSETFROM:-0500
TZOFFSETTO:-0400
TZNAME:EDT
END:DAYLIGHT
END:VTIMEZONE
END:VCALENDAR