BEGIN:VCALENDAR
VERSION:2.0
PRODID:-//wp-events-plugin.com//7.2.3.1//EN
TZID:America/New_York
X-WR-TIMEZONE:America/New_York
BEGIN:VEVENT
UID:1832@wvpst.org
DTSTART;TZID=America/New_York:20210807T090000
DTEND;TZID=America/New_York:20210807T170000
DTSTAMP:20210803T165956Z
URL:https://wvpst.org/events/emt-initial-26/
SUMMARY:EMT Initial
DESCRIPTION:Emergency Medical Technician (EMT)\n\nThis 155 hour minimum pro
 gram is the basic level of EMT care by the West Virginia Office of Emergen
 cy Medical Services. This class meets the National Standards Curriculum. 
  The EMT candidate must successfully complete the program\, complete requi
 red clinical time\, complete the practical skills testing\, and obtain a 
 passing score on the computer-based National Registry exam. Recertificati
 on is required by National Registry every two years.\n\nWV Public Service 
 Training will be conducting an Emergency Medical Technician course beginni
 ng August 7\, 2021 from 9:00 am - 5:00 pm at the WVPST Dunbar Office (501 
 22nd St.\, Dunbar\, WV 25064).\n\nPlanned Meeting Dates: August 7 &amp\; 2
 1\; September 4 &amp\; 18\; October 2\, 16\, &amp\; 30\; November 13\; Dec
 ember 4 &amp\; 18\n\nOrientation is in person at the WVPST Dunbar Office o
 n August 7.\n\nUpon successful completion of the course\, you will be elig
 ible to sit for the National Registry of EMTs exam\, with the initial exam
  attempt\, as mentioned above\, being included within the course tuition.
  This test will be scheduled at your convenience at a Pearson Vue testing
  center. If seeking certification in a state other than WV\, you will not
  need to complete the WV certification process/fees\, and will simply need
  to pass practical testing and NREMT examination before proceeding with th
 e certification process in your desired state.\n\n Absence allowance is 1
 0% of the total class hours = 15 hours. Make up of missed classes will be 
 at the discretion of the course instructor.\n\nFee:  $300 Tuition due fir
 st night of class\n\nBook and First Attempt at National Registry Exam will
  be covered through Jobs &amp\; Hope WV for WV Residents\n\n PRE-REGISTRA
 TION REQUIRED!! CLASS IS LIMITED TO 25 STUDENTS. \n\nWith the limited numb
 er of seats\, email eva.godbey@k12.wv.us to register. Once class is full\,
  all others will be placed on a waitlist. As seats become available\, thos
 e slots will be filled in the order of the waitlist.\n\nInstructor:  Bre
 nt Burger\n\nIf you have any questions\, please contact Eva Godbey at eva
 .godbey@k12.wv.us
CATEGORIES:WVPST Charleston
LOCATION:WVPST - Charleston\, 501 22nd St.\, Dunbar\, 25064\, United States
GEO:38.366469;-81.74986519999999
X-APPLE-STRUCTURED-LOCATION;VALUE=URI;X-ADDRESS=501 22nd St.\, Dunbar\, 250
 64\, United States;X-APPLE-RADIUS=100;X-TITLE=WVPST - Charleston:geo:38.36
 6469,-81.74986519999999
END:VEVENT
BEGIN:VTIMEZONE
TZID:America/New_York
X-LIC-LOCATION:America/New_York
BEGIN:DAYLIGHT
DTSTART:20210314T030000
TZOFFSETFROM:-0500
TZOFFSETTO:-0400
TZNAME:EDT
END:DAYLIGHT
END:VTIMEZONE
END:VCALENDAR