BEGIN:VCALENDAR
VERSION:2.0
PRODID:-//wp-events-plugin.com//7.2.3.1//EN
TZID:America/New_York
X-WR-TIMEZONE:America/New_York
BEGIN:VEVENT
UID:1275@wvpst.org
DTSTART;TZID=America/New_York:20200303T170000
DTEND;TZID=America/New_York:20200303T210000
DTSTAMP:20200111T194654Z
URL:https://wvpst.org/events/emt-initial-22/
SUMMARY:EMT Initial
DESCRIPTION:WV Public Service Training will be offering an Emergency Medica
 l Technician course at Logan Emergency Ambulance Service Authority (LEASA)
  beginning March 3\, 2020 at 5:00 pm. Classes will be held on Tuesday and 
 Thursday evenings from 5:00 pm - 9:00 pm.\n\nThis 155 hour course covers t
 he basic information needed to function as an EMT level pre-hospital provi
 der. Successful completion of the course will allow the student to be cons
 idered eligible to take the certifying exams.\n\nThis course also requires
  a clinical component to be completed outside of class hours during which 
 you will ride along with an EMS agency to complete 10 patient assessments.
  These assessments must be completed prior to being approved to take the 
 NREMT exam once the course is completed. You will receive more informatio
 n on the clinical component during the class.\n\nUpon successful completio
 n of the course\, you will be eligible to sit for the National Registry of
  EMTs exam\, with the initial exam attempt\, as mentioned above\, being in
 cluded within the course tuition.  This test will be scheduled at your co
 nvenience at a Pearson Vue testing center.  If seeking certification in a
  state other than WV\, you will not need to complete the WV certification 
 process/fees\, and will simply need to pass practical testing and NREMT ex
 amination before proceeding with the certification process in your desired
  state.\n\nAbsence allowance is 10% of the total class hours = 15 hours. M
 ake up of missed classes will be at the discretion of the course instructo
 r.\n\nFee:  FREE to WV residents from a grant through the Jobs &amp\; Hop
 e WV\n\nPRE-REGISTRATION REQUIRED. CLASS IS LIMITED TO 30 STUDENTS.\n\nIns
 tructor:  Ray Bryant\n\nTo register\, please contact Tammy Norman at tnor
 man@k12.wv.us or (304) 766-0011 ext. 21
CATEGORIES:WVPST Charleston
LOCATION:Logan Emergency Ambulance Service Authority\, 511 Dingess St.\, Lo
 gan\, WV\, 25601\, United States
GEO:37.849924;-81.993077
X-APPLE-STRUCTURED-LOCATION;VALUE=URI;X-ADDRESS=511 Dingess St.\, Logan\, W
 V\, 25601\, United States;X-APPLE-RADIUS=100;X-TITLE=Logan Emergency Ambul
 ance Service Authority:geo:37.849924,-81.993077
END:VEVENT
BEGIN:VTIMEZONE
TZID:America/New_York
X-LIC-LOCATION:America/New_York
BEGIN:STANDARD
DTSTART:20191103T010000
TZOFFSETFROM:-0400
TZOFFSETTO:-0500
TZNAME:EST
END:STANDARD
END:VTIMEZONE
END:VCALENDAR