BEGIN:VCALENDAR
VERSION:2.0
PRODID:-//wp-events-plugin.com//7.2.3.1//EN
TZID:America/New_York
X-WR-TIMEZONE:America/New_York
BEGIN:VEVENT
UID:1185@wvpst.org
DTSTART;TZID=America/New_York:20200113T180000
DTEND;TZID=America/New_York:20200113T220000
DTSTAMP:20191208T015827Z
URL:https://wvpst.org/events/emt-initial-19/
SUMMARY:EMT Initial
DESCRIPTION:This 155-hour course is being conducted at City of Salem Fire/E
 MS\, Salem\, WV (Harrison County)\, beginning Monday\, January 13\, 2020 a
 t 6:00pm.  Class will meet Mondays and Wednesday from 6:00pm to 10:00pm.
   The course instructor is Chris Battlo.\n\n&nbsp\;\n\nThe tuition fee of
  $400\, made payable to MSESC by cash\, check\, or money order\, is due at
  the first class session\, or payment may be made online via credit card a
 t: https://mountainstateesc.com/services-and-resources/public-service-trai
 ning/north-central-pst-payment/.  Course tuition includes NREMT testing v
 oucher\, along with ID badge for clinicals.  The textbook (AAOS\, Emergen
 cy Care and Transportation of the Sick and Injured\, 11th ed. ISBN is 9781
 284080179) will be available for purchase at the first class session for $
 110 (must be paid in order to take a book) or you can purchase/borrow one 
 on your own. If you borrow/purchase your own\, make sure to get the most c
 urrent edition.\n\n&nbsp\;\n\nThe course also requires a clinical componen
 t to be completed outside of class hours during which you will ride along 
 with an EMS agency to complete 10 patient assessments. These assessments m
 ust be completed prior to being approved to take the NREMT exam once the 
 course is completed. You will receive more information on the clinical com
 ponent during the class.\n\n&nbsp\;\n\nUpon successful completion of the c
 ourse\, you will be eligible to sit for the National Registry of EMTs exam
 \, with the initial exam attempt\, as mentioned above\, being included wit
 hin the course tuition.  This test will be scheduled at your convenience 
 at a Pearson Vue testing center.  If seeking certification in a state oth
 er than WV\, you will not need to complete the WV certification process/fe
 es\, and will simply need to pass practical testing and NREMT examination 
 before proceeding with the certification process in your desired state.\n\
 n&nbsp\;\n\nIf seeking certification in West Virginia at the conclusion of
  the course\, the West Virginia Office of EMS requires a $75 fee for certi
 fication which is paid online\, and a $45 fee for fingerprinting/criminal 
 background check. You will receive directions on that process during the c
 lass.\n\n&nbsp\;\n\nPre- registration for this class is required. Class is
  limited to 25 students.  Absence allowance is 10% of the total class hou
 rs = 15 hours. Make up of missed classes will be at the discretion of the 
 course instructor.\n\n&nbsp\;\n\nInterested persons should register below 
 by filling in the appropriate information.\n\nPlease contact the WV Public
  Service Training office at brian.potter@wvesc.org or 304-326-7581 with a
 ny questions.
CATEGORIES:WVPST Clarksburg
LOCATION:City of Salem Fire/EMS\, 60 Mill Street\, Salem\, WV\, 26426\, Uni
 ted States
GEO:39.282961;-80.559435
X-APPLE-STRUCTURED-LOCATION;VALUE=URI;X-ADDRESS=60 Mill Street\, Salem\, WV
 \, 26426\, United States;X-APPLE-RADIUS=100;X-TITLE=City of Salem Fire/EMS
 :geo:39.282961,-80.559435
END:VEVENT
BEGIN:VTIMEZONE
TZID:America/New_York
X-LIC-LOCATION:America/New_York
BEGIN:STANDARD
DTSTART:20191103T010000
TZOFFSETFROM:-0400
TZOFFSETTO:-0500
TZNAME:EST
END:STANDARD
END:VTIMEZONE
END:VCALENDAR