BEGIN:VCALENDAR
VERSION:2.0
PRODID:-//wp-events-plugin.com//7.2.3.1//EN
TZID:America/New_York
X-WR-TIMEZONE:America/New_York
BEGIN:VEVENT
UID:983@wvpst.org
DTSTART;TZID=America/New_York:20190906T180000
DTEND;TZID=America/New_York:20190906T220000
DTSTAMP:20190905T124938Z
URL:https://wvpst.org/events/emt-initial-13/
SUMMARY:EMT Initial
DESCRIPTION:This 155-hour course is being conducted at the Evansville Commu
 nity Building (Preston County)\, located at 44 Buffalo Lane\, Thornton\, W
 V.  Class meets Tuesdays and Fridays from 6pm-10pm each evening\, beginni
 ng Tuesday September 3\, 2019.  There will also be some Saturday classes 
 running from 8am - 4pm.  A few additional hours will be required througho
 ut class\, but these will be worked out between the instructor and student
 s once class starts. Class dates are September6\, 10\, 13\, 17\, 20\, 24\,
  27\, 28\; October 1\, 4\, 8\, 11\, 15\, 18\, 22\, 25\, 26\, 29\; November
  1\, 5\, 8\, 9\, 12\, 15\, 19\, 22\, 23\; December 3\, 6.  The course ins
 tructor is Tasha Hamilton.\n\n&nbsp\;\n\nFees for this class will be cover
 ed by a grant from the WV Department of Education.\n\n&nbsp\;\n\nThe cours
 e also requires a clinical component to be completed outside of class hour
 s during which you will ride along with an EMS agency to complete 10 patie
 nt assessments. These assessments must be completed prior to being approve
 d to take the NREMT exam once the course is completed. You will receive m
 ore information on the clinical component during the class.\n\n&nbsp\;\n\n
 Upon successful completion of the course\, you will be eligible to sit for
  the National Registry of EMTs exam\, with the initial exam attempt\, as m
 entioned above\, being included within the course tuition.  This test wil
 l be scheduled at your convenience at a Pearson Vue testing center.  If s
 eeking certification in a state other than WV\, you will not need to compl
 ete the WV certification process/fees\, and will simply need to pass pract
 ical testing and NREMT examination before proceeding with the certificatio
 n process in your desired state.\n\n&nbsp\;\n\nPre- registration for this 
 class is required. Class is limited to 25 students.  Absence allowance is
  10% of the total class hours = 15 hours. Make up of missed classes will b
 e at the discretion of the course instructor.\n\n&nbsp\;\n\nInterested per
 sons should register below by filling in the appropriate information.\n\nP
 lease contact the WV Public Service Training office at bpotter.wvpst@gmail
 .com\, or 304-326-7581 with any questions.
CATEGORIES:WVPST Clarksburg
LOCATION:Evansville Community Building\, 44 Buffalo Lane\, Thornton\, WV\, 
 United States
GEO:39.3348889;-79.87036499999999
X-APPLE-STRUCTURED-LOCATION;VALUE=URI;X-ADDRESS=44 Buffalo Lane\, Thornton\
 , WV\, United States;X-APPLE-RADIUS=100;X-TITLE=Evansville Community Build
 ing:geo:39.3348889,-79.87036499999999
END:VEVENT
BEGIN:VTIMEZONE
TZID:America/New_York
X-LIC-LOCATION:America/New_York
BEGIN:DAYLIGHT
DTSTART:20190310T030000
TZOFFSETFROM:-0500
TZOFFSETTO:-0400
TZNAME:EDT
END:DAYLIGHT
END:VTIMEZONE
END:VCALENDAR