BEGIN:VCALENDAR
VERSION:2.0
PRODID:-//wp-events-plugin.com//7.2.3.1//EN
TZID:America/New_York
X-WR-TIMEZONE:America/New_York
BEGIN:VEVENT
UID:418@wvpst.org
DTSTART;TZID=America/New_York:20180327T180000
DTEND;TZID=America/New_York:20180327T200000
DTSTAMP:20180221T181530Z
URL:https://wvpst.org/events/emt-exam-only-5/
SUMMARY:EMT Exam ONLY
DESCRIPTION:All those needing to take an EMT exam MUST pre-register to part
 icipate in this test date.  If you do not pre-register\, it will be assum
 ed that you are not coming and may not be allowed to set for the exam.  T
 o pre-register\, please contact Eva Godbey at eva.godbey@k12.wv.us or Rick
  Gobble at rgobble@k12.wv.us with which exam\, your course number in CIS\,
  and who your instructor is.\n\n**PLEASE NOTE:  If there are not enough s
 tudents to set for exam or EMT Recert Class March 5-26\, 2018 gets cancell
 ed\, this exam date may get cancelled.**\n\n&nbsp\;\n\n3/27/18 6-8 pm at t
 he RESA 5 Building
CATEGORIES:WVPST Parkersburg
LOCATION:RESA 5\, 2507 9th Ave\, Parkersburg\, WV\, 26101\, United States
GEO:39.2504603;-81.5470722
X-APPLE-STRUCTURED-LOCATION;VALUE=URI;X-ADDRESS=2507 9th Ave\, Parkersburg\
 , WV\, 26101\, United States;X-APPLE-RADIUS=100;X-TITLE=RESA 5:geo:39.2504
 603,-81.5470722
END:VEVENT
BEGIN:VTIMEZONE
TZID:America/New_York
X-LIC-LOCATION:America/New_York
BEGIN:DAYLIGHT
DTSTART:20180311T030000
TZOFFSETFROM:-0500
TZOFFSETTO:-0400
TZNAME:EDT
END:DAYLIGHT
END:VTIMEZONE
END:VCALENDAR