BEGIN:VCALENDAR
VERSION:2.0
PRODID:-//wp-events-plugin.com//7.2.3.1//EN
TZID:America/New_York
X-WR-TIMEZONE:America/New_York
BEGIN:VEVENT
UID:1771@wvpst.org
DTSTART;TZID=America/New_York:20210814T080000
DTEND;TZID=America/New_York:20210814T080000
DTSTAMP:20210706T142756Z
URL:https://wvpst.org/events/emt-emergency-medical-technician-2/
SUMMARY:EMT (Emergency Medical Technician) - Initial with Tuition Waiver
DESCRIPTION:EMT\n\nA 155-hour Emergency Medical Technician class will be he
 ld at Hedgesville VFD starting August 14\, 2021 at 8 am.  Class is limite
 d to 25 participants and preregistration on the WVPST website is required.
   Tuition and books are being covered by a Jobs in Hope grant for this pr
 ogram. An application fee and background check fee are payable to WVOEMS. 
 A testing fee is payable to NREMT.\n\nEMT Hedgesville Flyer\n\nEMT Class I
 nformation 2021
CATEGORIES:WVPST Martinsburg
LOCATION:Hedgesville Volunteer Fire Department\, 4217 Hedgesville Road\, He
 dgesville\, WV\, 25427\, United States
GEO:39.544777;-77.990549
X-APPLE-STRUCTURED-LOCATION;VALUE=URI;X-ADDRESS=4217 Hedgesville Road\, Hed
 gesville\, WV\, 25427\, United States;X-APPLE-RADIUS=100;X-TITLE=Hedgesvil
 le Volunteer Fire Department:geo:39.544777,-77.990549
END:VEVENT
BEGIN:VTIMEZONE
TZID:America/New_York
X-LIC-LOCATION:America/New_York
BEGIN:DAYLIGHT
DTSTART:20210314T030000
TZOFFSETFROM:-0500
TZOFFSETTO:-0400
TZNAME:EDT
END:DAYLIGHT
END:VTIMEZONE
END:VCALENDAR