BEGIN:VCALENDAR
VERSION:2.0
PRODID:-//wp-events-plugin.com//7.2.3.1//EN
TZID:America/New_York
X-WR-TIMEZONE:America/New_York
BEGIN:VEVENT
UID:1023@wvpst.org
DTSTART;TZID=America/New_York:20190910T180000
DTEND;TZID=America/New_York:20190910T220000
DTSTAMP:20190808T190317Z
URL:https://wvpst.org/events/emt-blended-learning/
SUMMARY:Online EMT
DESCRIPTION:Online EMT\n\nAn online Emergency Medical Technician class will
  be held at the James Rumsey Technical Institute\, in Martinsburg WV start
 ing Tuesday\, September 10\, 2019 at 6:00 pm. This is a blended learning c
 lass with training done online instead of traditional classroom instructio
 n\, and weekly sessions are held for hands-on skills training.  Steve Har
 ris is the instructor.  At the first class students will obtain course ma
 terials and get enrolled in the online class.  The class will meet one ev
 ening each week for Practical Skills.  Class is limited to 30 students. 
  A minimum of 10 people must enroll or the class will be cancelled. Course
  Fee of $650 includes textbook and on-line access.  There is also a $50 f
 ee for class materials and CPR.  Participants should bring payment to the
  registration session\, or bring billing information if the student's squa
 d is paying for the class.\n\nClick here for a Course Flyer\n\nClick here 
 for Detailed EMT Online Class Information
CATEGORIES:WVPST Martinsburg
LOCATION:James Rumsey Technical Institute\, 3274 Hedgesville Rd\, Martinsbu
 rg\, United States
GEO:39.5327798;-77.97906230000001
X-APPLE-STRUCTURED-LOCATION;VALUE=URI;X-ADDRESS=3274 Hedgesville Rd\, Marti
 nsburg\, United States;X-APPLE-RADIUS=100;X-TITLE=James Rumsey Technical I
 nstitute:geo:39.5327798,-77.97906230000001
END:VEVENT
BEGIN:VTIMEZONE
TZID:America/New_York
X-LIC-LOCATION:America/New_York
BEGIN:DAYLIGHT
DTSTART:20190310T030000
TZOFFSETFROM:-0500
TZOFFSETTO:-0400
TZNAME:EDT
END:DAYLIGHT
END:VTIMEZONE
END:VCALENDAR