BEGIN:VCALENDAR
VERSION:2.0
PRODID:-//wp-events-plugin.com//7.2.3.1//EN
TZID:America/New_York
X-WR-TIMEZONE:America/New_York
BEGIN:VEVENT
UID:2666@wvpst.org
DTSTART;TZID=America/New_York:20240109T180000
DTEND;TZID=America/New_York:20240109T220000
DTSTAMP:20231214T191432Z
URL:https://wvpst.org/events/emt-b-initial-hybrid/
SUMMARY:EMT-B Initial Hybrid
DESCRIPTION:WV Public Service Training will be conducting an Emergency Medi
 cal Technician course beginning January 9\, 2024 from 6:00 pm - 10:00 pm a
 t WVPST - Charleston (501 22nd St.\, Dunbar\, WV 25064). \n \nPlanned Meet
 ing Dates: Tuesdays and Thursdays with an online component starting Januar
 y 9\, 2024\n \nTime: 6:00pm - 10:00pm\n \nOrientation is in person at the 
 WVPST office on January 9.\n \nUpon successful completion of the course\, 
 you will be eligible to sit for the National Registry of EMT's exam. This 
 test will be scheduled at your convenience at a Pearson Vue testing center
 . If seeking certification in a state other than WV\, you will not need to
  complete the WV certification process/fees\, and will simply need to pass
  practical testing and NREMT examination before proceeding with the certif
 ication process in your desired state.\n \nAbsence allowance is 10% of the
  total class hours = 15 hours. Make up of missed classes will be at the di
 scretion of the course instructor.\n \nFee: $750 due the first night of cl
 ass (Includes tuition and textbook)\n \nPRE-REGISTRATION REQUIRED!! \n \nC
 lass size: 20 participants\n \nIf you are interested\, please sign up usin
 g the registration information below with the course ID.\n \nTo Register: 
 Follow the guidelines in the attached document using the course number in 
 this posting. WVPST is adopting a new registration platform that we believ
 e will be more user-friendly. Should you have any issues\, please contact 
 Eva Godbey at eva.godbey@k12.wv.us.  \n \nLink: www.pstachio.wvnet.edu (If
  link doesn't work\, use Google Chrome and search PSTachio.wvnet.edu)\n \n
 Course ID: 24-053-03 WVPST Charleston\n \nInstructor:  Louie Robinson\n \n
 If you have any questions or issues registering\, please contact Eva Godbe
 y at eva.godbey@k12.wv.us\n\n
CATEGORIES:WVPST Charleston
LOCATION:WVPST - Charleston\, 501 22nd St.\, Dunbar\, 25064\, United States
GEO:38.366469;-81.74986519999999
X-APPLE-STRUCTURED-LOCATION;VALUE=URI;X-ADDRESS=501 22nd St.\, Dunbar\, 250
 64\, United States;X-APPLE-RADIUS=100;X-TITLE=WVPST - Charleston:geo:38.36
 6469,-81.74986519999999
END:VEVENT
BEGIN:VTIMEZONE
TZID:America/New_York
X-LIC-LOCATION:America/New_York
BEGIN:STANDARD
DTSTART:20231105T010000
TZOFFSETFROM:-0400
TZOFFSETTO:-0500
TZNAME:EST
END:STANDARD
END:VTIMEZONE
END:VCALENDAR