BEGIN:VCALENDAR
VERSION:2.0
PRODID:-//wp-events-plugin.com//7.2.3.1//EN
TZID:America/New_York
X-WR-TIMEZONE:America/New_York
BEGIN:VEVENT
UID:2572@wvpst.org
DTSTART;TZID=America/New_York:20230912T180000
DTEND;TZID=America/New_York:20230912T220000
DTSTAMP:20230912T180418Z
URL:https://wvpst.org/events/emt-b-initial-hybrid-course/
SUMMARY:CANCELLED ~ EMT-B Initial Hybrid Course
DESCRIPTION:WV Public Service Training will be conducting an Emergency Medi
 cal Technician course beginning September 12\, 2023 from 6:00 pm - 10:00 p
 m at WVPST - Charleston (501 22nd St.\, Dunbar\, WV 25064). \n \nPlanned M
 eeting Dates: Tuesdays and Thursdays with an online component\n \nTime: 6:
 00pm - 10:00pm\n \nOrientation is in person at the WVPST office on Septemb
 er 12.\n \nUpon successful completion of the course\, you will be eligible
  to sit for the National Registry of EMT's exam. This test will be schedul
 ed at your convenience at a Pearson Vue testing center. If seeking certifi
 cation in a state other than WV\, you will not need to complete the WV cer
 tification process/fees\, and will simply need to pass practical testing a
 nd NREMT examination before proceeding with the certification process in y
 our desired state.\n \nAbsence allowance is 10% of the total class hours =
  15 hours. Make up of missed classes will be at the discretion of the cour
 se instructor.\n \nFee: $750 due the first night of class (Includes tuitio
 n and textbook)\n \nPRE-REGISTRATION REQUIRED!! \n \nClass size: 20 partic
 ipants\n \nIf you are interested\, please sign up using the registration i
 nformation below with the course ID.\n \nTo Register: Follow the guideline
 s in the attached document using the course number in this posting. WVPST 
 is adopting a new registration platform that we believe will be more user-
 friendly. Should you have any issues\, please contact Eva Godbey at eva.go
 dbey@k12.wv.us.  \n \nLink: www.pstachio.wvnet.edu (If link doesn't work\,
  use Google Chrome and search PSTachio.wvnet.edu)\n \nCourse ID: 24-053-03
  WVPST Charleston\n \nInstructor:  Louie Robinson\n \nIf you have any ques
 tions or issues registering\, please contact Eva Godbey at eva.godbey@k12.
 wv.us\n\n
CATEGORIES:WVPST Charleston
LOCATION:WVPST - Charleston\, 501 22nd St.\, Dunbar\, 25064\, United States
GEO:38.366469;-81.74986519999999
X-APPLE-STRUCTURED-LOCATION;VALUE=URI;X-ADDRESS=501 22nd St.\, Dunbar\, 250
 64\, United States;X-APPLE-RADIUS=100;X-TITLE=WVPST - Charleston:geo:38.36
 6469,-81.74986519999999
END:VEVENT
BEGIN:VTIMEZONE
TZID:America/New_York
X-LIC-LOCATION:America/New_York
BEGIN:DAYLIGHT
DTSTART:20230312T030000
TZOFFSETFROM:-0500
TZOFFSETTO:-0400
TZNAME:EDT
END:DAYLIGHT
END:VTIMEZONE
END:VCALENDAR