BEGIN:VCALENDAR
VERSION:2.0
PRODID:-//wp-events-plugin.com//7.2.3.1//EN
TZID:America/New_York
X-WR-TIMEZONE:America/New_York
BEGIN:VEVENT
UID:2865@wvpst.org
DTSTART;TZID=America/New_York:20260105T180000
DTEND;TZID=America/New_York:20260105T220000
DTSTAMP:20251211T001129Z
URL:https://wvpst.org/events/emt-b-initial-26/
SUMMARY:EMT-B Initial
DESCRIPTION:WV Public Service Training will be conducting an Emergency Medi
 cal Technician course beginning January 5\, 2026 from 6:00 pm - 10:00 pm a
 t the Wood County Training Center.\n \nWhere: Wood County Training Center 
 (2311 Camden Ave.\, Parkersburg\, WV 26101)\n \nWhen: January 5\, 2026 - M
 ay 4\, 2026\n\nPlanned Meeting Dates: Monday and Wednesdays with an online
  component\n \nTime: 6:00pm - 10:00pm\n \nOrientation is in person at Wood
  County Training Center on January 5\, 2026\n \nUpon successful completion
  of the course\, you will be eligible to sit for the National Registry of 
 EMT's exam\, with the initial exam attempt\, as mentioned above\, being in
 cluded within the course tuition. This test will be scheduled at your conv
 enience at a Pearson Vue testing center. If seeking certification in a sta
 te other than WV\, you will not need to complete the WV certification proc
 ess/fees\, and will simply need to pass practical testing and NREMT examin
 ation before proceeding with the certification process in your desired sta
 te.\n \nAbsence allowance is 10% of the total class hours = 15 hours. Make
  up of missed classes will be at the discretion of the course instructor.\
 n \nFee:  $770 to include tuition and book\n \nPRE-REGISTRATION REQUIRED!!
  \n \nClass size: 20 participants\n \nTo Register: Pre-registration requir
 ed online at www.wvpst.org. Select Parkersburg and click on the class in t
 he calendar. Minimum of 15 students required. \n \nIf you have any questio
 ns or issues registering\, please contact Eva Godbey at eva.godbey@k12.wv.
 us\n\n
CATEGORIES:WVPST Parkersburg
LOCATION:Parkersburg Fire Station 6\, 2311 Camden Ave.\, Parkersburg\, WV\,
  25101\, United States
GEO:39.2551835;-81.54927780000003
X-APPLE-STRUCTURED-LOCATION;VALUE=URI;X-ADDRESS=2311 Camden Ave.\, Parkersb
 urg\, WV\, 25101\, United States;X-APPLE-RADIUS=100;X-TITLE=Parkersburg Fi
 re Station 6:geo:39.2551835,-81.54927780000003
END:VEVENT
BEGIN:VTIMEZONE
TZID:America/New_York
X-LIC-LOCATION:America/New_York
BEGIN:STANDARD
DTSTART:20251102T010000
TZOFFSETFROM:-0400
TZOFFSETTO:-0500
TZNAME:EST
END:STANDARD
END:VTIMEZONE
END:VCALENDAR