BEGIN:VCALENDAR
VERSION:2.0
PRODID:-//wp-events-plugin.com//7.2.3.1//EN
TZID:America/New_York
X-WR-TIMEZONE:America/New_York
BEGIN:VEVENT
UID:2535@wvpst.org
DTSTART;TZID=America/New_York:20230821T180000
DTEND;TZID=America/New_York:20230821T220000
DTSTAMP:20230720T185001Z
URL:https://wvpst.org/events/emt-b-initial-11/
SUMMARY:EMT-B Initial
DESCRIPTION:WV Public Service Training will be conducting an Emergency Medi
 cal Technician course beginning August 21\, 2023 from 6:00 pm - 10:00 pm a
 t Wood County Training Center (2311 Camden Ave.\, Parkersburg\, WV 26101).
 \n\nWhere: Wood County Training Center (2311 Camden Ave.\, Parkersburg\, W
 V 26101)\n\nWhen: August 21\, 2023 - December 20\, 2023\n\nPlanned Meeting
  Dates: Monday and Wednesday with an online component\n\nTime: 6:00pm - 10
 :00pm\n\nOrientation is in person at Wood County Training Center on August
  21.\n\nUpon successful completion of the course\, you will be eligible to
  sit for the National Registry of EMT's exam\, with the initial exam attem
 pt\, as mentioned above\, being included within the course tuition. This 
 test will be scheduled at your convenience at a Pearson Vue testing center
 . If seeking certification in a state other than WV\, you will not need t
 o complete the WV certification process/fees\, and will simply need to pas
 s practical testing and NREMT examination before proceeding with the certi
 fication process in your desired state.\n\nAbsence allowance is 10% of the
  total class hours = 15 hours. Make up of missed classes will be at the di
 scretion of the course instructor.\n\nFee:  $750 to include tuition and b
 ook\n\nPRE-REGISTRATION REQUIRED!! \n\nClass size: 20 participants\n\nIf 
 you are interested\, please sign up using the registration information bel
 ow with the course ID.\n\nTo Register: Follow the guidelines in the attach
 ed document using the course number in this posting. WVPST is adopting a n
 ew registration platform that we believe will be more user-friendly. Shoul
 d you have any issues\, please contact Eva Godbey at eva.godbey@k12.wv.us.
  \n\nLink: www.pstachio.wvnet.edu (If link doesn't work\, use Google Chro
 me and search PSTachio.wvnet.edu)\n\nCourse ID: 24-016-05 WVPST Parkersbur
 g\n\nInstructor:  Mike Tanner\n\nIf you have any questions or issues reg
 istering\, please contact Eva Godbey at eva.godbey@k12.wv.us\n\n
CATEGORIES:WVPST Parkersburg
LOCATION:Parkersburg Fire Station 6\, 2311 Camden Ave.\, Parkersburg\, WV\,
  25101\, United States
GEO:39.2551835;-81.54927780000003
X-APPLE-STRUCTURED-LOCATION;VALUE=URI;X-ADDRESS=2311 Camden Ave.\, Parkersb
 urg\, WV\, 25101\, United States;X-APPLE-RADIUS=100;X-TITLE=Parkersburg Fi
 re Station 6:geo:39.2551835,-81.54927780000003
END:VEVENT
BEGIN:VTIMEZONE
TZID:America/New_York
X-LIC-LOCATION:America/New_York
BEGIN:DAYLIGHT
DTSTART:20230312T030000
TZOFFSETFROM:-0500
TZOFFSETTO:-0400
TZNAME:EDT
END:DAYLIGHT
END:VTIMEZONE
END:VCALENDAR