BEGIN:VCALENDAR
VERSION:2.0
PRODID:-//wp-events-plugin.com//7.2.3.1//EN
TZID:America/New_York
X-WR-TIMEZONE:America/New_York
BEGIN:VEVENT
UID:1119@wvpst.org
DTSTART;TZID=America/New_York:20200108T180000
DTEND;TZID=America/New_York:20200108T220000
DTSTAMP:20191008T121819Z
URL:https://wvpst.org/events/emt-23/
SUMMARY:EMT
DESCRIPTION:EMT\n\nAn Emergency Medical Technician class will be held at Ea
 stern CTC in Moorefield\, WV starting Wednesday\, January 8\, 2020 at 6:00
  pm.  The class will meet Monday and Wednesday evenings from 6:00 to 10:0
 0 pm.  This 155-hour class meets the national education standards and inc
 ludes required clinical time.  David Pratt is the instructor.  In-state 
 tuition is $300.  There are additional charges for books\, CPR\, and clas
 s materials.  An application fee and background check fee are payable to 
 WVOEMS.  Testing fees are payable to National Registry.\n\nClick here for
  a Course Flyer\n\nClick here for Detailed EMT Class Information
CATEGORIES:WVPST Martinsburg
LOCATION:Eastern CTC\, 316 Eastern Drive\, Moorefield\, WV\, 26836\, United
  States
GEO:39.0758036;-78.930679
X-APPLE-STRUCTURED-LOCATION;VALUE=URI;X-ADDRESS=316 Eastern Drive\, Moorefi
 eld\, WV\, 26836\, United States;X-APPLE-RADIUS=100;X-TITLE=Eastern CTC:ge
 o:39.0758036,-78.930679
END:VEVENT
BEGIN:VTIMEZONE
TZID:America/New_York
X-LIC-LOCATION:America/New_York
BEGIN:STANDARD
DTSTART:20191103T010000
TZOFFSETFROM:-0400
TZOFFSETTO:-0500
TZNAME:EST
END:STANDARD
END:VTIMEZONE
END:VCALENDAR