BEGIN:VCALENDAR
VERSION:2.0
PRODID:-//wp-events-plugin.com//7.2.3.1//EN
TZID:America/New_York
X-WR-TIMEZONE:America/New_York
BEGIN:VEVENT
UID:999@wvpst.org
DTSTART;TZID=America/New_York:20200113T173000
DTEND;TZID=America/New_York:20200113T220000
DTSTAMP:20191008T183513Z
URL:https://wvpst.org/events/emt-19/
SUMMARY:EMT
DESCRIPTION:EMT\n\nAn Emergency Medical Technician class will be held at JC
 ESA in Ranson\, WV starting Monday\, January 13\, 2020 at 5:30 pm.  The c
 lass will meet Monday and Wednesday evenings from 5:30 to 10:00 pm.  This
  155-hour class meets the national education standards and includes requir
 ed clinical time.  In-state tuition is $300.  There is an additional cha
 rge for books\, CPR\, and class materials.  An application fee and a back
 ground check fee are payable to WVOEMS.  Testing fees are payable to Nati
 onal Registry.\n\nClick here for a Course Flyer\n\nClick here for Detailed
  EMT Class Information
CATEGORIES:WVPST Martinsburg
LOCATION:JCESA\, Ranson\, 419 16th Ave\, Ranson\, United States
GEO:39.3093497;-77.85679060000001
X-APPLE-STRUCTURED-LOCATION;VALUE=URI;X-ADDRESS=419 16th Ave\, Ranson\, Uni
 ted States;X-APPLE-RADIUS=100;X-TITLE=JCESA\, Ranson:geo:39.3093497,-77.85
 679060000001
END:VEVENT
BEGIN:VTIMEZONE
TZID:America/New_York
X-LIC-LOCATION:America/New_York
BEGIN:STANDARD
DTSTART:20191103T010000
TZOFFSETFROM:-0400
TZOFFSETTO:-0500
TZNAME:EST
END:STANDARD
END:VTIMEZONE
END:VCALENDAR