BEGIN:VCALENDAR
VERSION:2.0
PRODID:-//wp-events-plugin.com//7.2.3.1//EN
TZID:America/New_York
X-WR-TIMEZONE:America/New_York
BEGIN:VEVENT
UID:1273@wvpst.org
DTSTART;TZID=America/New_York:20200119T090000
DTEND;TZID=America/New_York:20200119T170000
DTSTAMP:20200111T152337Z
URL:https://wvpst.org/events/ems-safety-course/
SUMMARY:EMS Safety Course
DESCRIPTION:WVPST &amp\; Wood County Fire School are pleased to announce an
  EMS Safety course on January 19\, 2020 from 9a-5p at the Parkersburg Fire
  Dept. Training Center (2311 Camden Ave.\, Parkersburg\, WV 26101)\n \nCo
 st is $30/person.  \n \nPLEASE NOTE:  NAEMT Fee of $10 needs to be pai
 d to the Instructor on the day of class.  Other $20 can be invoiced to yo
 u or your department affiliation.\n \n\nDescription:\nNAEMT’s EMS Safet
 y course teaches students how to protect themselves and their patients whi
 le on the job. It promotes a culture of safety and helps reduce the number
  of on-the-job fatalities and injuries. EMS Safety is the only national\, 
 comprehensive safety course for EMS practitioners. Its interactive format 
 features real-life case studies and compelling discussions on current safe
 ty issues\, and provides participants with a forum to share their own expe
 riences. Critical thinking stations help build participants’ risk assess
 ment and decision-making skills.\nWill meet the requirements for NREMT ope
 rations section for recert\n\n\nInstructor:  Mike Tanner\n\nTo register\,
  please contact Eva Godbey at eva.godbey@k12.wv.us or (304) 766-0011 ext. 
 22
CATEGORIES:WVPST Parkersburg
LOCATION:Parkersburg Fire Station 6\, 2311 Camden Ave.\, Parkersburg\, WV\,
  25101\, United States
GEO:39.255184;-81.549278
X-APPLE-STRUCTURED-LOCATION;VALUE=URI;X-ADDRESS=2311 Camden Ave.\, Parkersb
 urg\, WV\, 25101\, United States;X-APPLE-RADIUS=100;X-TITLE=Parkersburg Fi
 re Station 6:geo:39.255184,-81.549278
END:VEVENT
BEGIN:VTIMEZONE
TZID:America/New_York
X-LIC-LOCATION:America/New_York
BEGIN:STANDARD
DTSTART:20191103T010000
TZOFFSETFROM:-0400
TZOFFSETTO:-0500
TZNAME:EST
END:STANDARD
END:VTIMEZONE
END:VCALENDAR