BEGIN:VCALENDAR
VERSION:2.0
PRODID:-//wp-events-plugin.com//7.2.3.1//EN
TZID:America/New_York
X-WR-TIMEZONE:America/New_York
BEGIN:VEVENT
UID:2146@wvpst.org
DTSTART;TZID=America/New_York:20220723T130000
DTEND;TZID=America/New_York:20220723T140000
DTSTAMP:20220719T193637Z
URL:https://wvpst.org/events/ems-recruitment-event-open-house-randolph-cou
 nty/
SUMMARY:EMS Recruitment Event/Open House (Randolph County)
DESCRIPTION:Do you have what it takes?\nRandolph County EMS will be holding
  open houses on July 23\, 2022 at 1pm and August 12\, 2022 at 5pm.\nFind o
 ut about a rewarding career in Emergency Medical Services. Learn about the
  new EMT academy.\nMeet the team\, information\, tours. Will be held at EM
 S Headquarters\, located in the Elkins Industrial Park.
CATEGORIES:WVPST Clarksburg
LOCATION:Randolph County EMS\, 2 Eleventh Street\, Elkins\, WV\, 26241\, Un
 ited States
GEO:38.92094;-79.857323
X-APPLE-STRUCTURED-LOCATION;VALUE=URI;X-ADDRESS=2 Eleventh Street\, Elkins\
 , WV\, 26241\, United States;X-APPLE-RADIUS=100;X-TITLE=Randolph County EM
 S:geo:38.92094,-79.857323
END:VEVENT
BEGIN:VTIMEZONE
TZID:America/New_York
X-LIC-LOCATION:America/New_York
BEGIN:DAYLIGHT
DTSTART:20220313T030000
TZOFFSETFROM:-0500
TZOFFSETTO:-0400
TZNAME:EDT
END:DAYLIGHT
END:VTIMEZONE
END:VCALENDAR