BEGIN:VCALENDAR
VERSION:2.0
PRODID:-//wp-events-plugin.com//7.2.3.1//EN
TZID:America/New_York
X-WR-TIMEZONE:America/New_York
BEGIN:VEVENT
UID:2566@wvpst.org
DTSTART;TZID=America/New_York:20230824T180000
DTEND;TZID=America/New_York:20230824T220000
DTSTAMP:20230823T200026Z
URL:https://wvpst.org/events/emr-initial-6/
SUMMARY:CANCELLED ~ EMR Initial
DESCRIPTION:Due to lack of registrations\, the EMR class at Culloden VFD ha
 s been cancelled. We apologize for the inconvenience.\n\n-WVPST\n\n\nWV Pu
 blic Service Training will be conducting an Emergency Medical Responder co
 urse beginning August 24\, 2023 from 6:00 pm - 10:00 pm at Culloden VFD (2
 102 3rd St.\, Culloden\, WV 25510). \n \nWhere: Culloden VFD (2102 3rd St.
 \, Culloden\, WV 25510)\n \nWhen: August 24\, 2023 - October 8\, 2023\n\nP
 lanned Meeting Dates: 8/24\, 8/27\, 8/31\, 9/9\, 9/14\, 9/17\, 9/21\, 99/2
 4\, 9/30\, and 10/8\n \nTime: 6:00pm - 10:00pm on week days and 8:00am-6:0
 0pm on weekend days\n \nOrientation is in person at Culloden on August 24.
 \n \nThis course emphasizes the skills needed to provide basic emergency c
 are during the first phases of an emergency. The course is 72 hours of cla
 ssroom and practical training in all aspects of initial response to a medi
 cal emergency. To receive certification by WVOEMS as a First Responder\, p
 articipants must successfully complete practical skills evaluations\, and 
 pass the computer-based National Registry cognitive (knowledge) test. Rece
 rtification is required by National Registry every two years. This test wi
 ll be scheduled at your convenience at a Pearson Vue testing center. If se
 eking certification in a state other than WV\, you will not need to comple
 te the WV certification process/fees\, and will simply need to pass practi
 cal testing and NREMT examination before proceeding with the certification
  process in your desired state.\n \nAbsence allowance is 10% of the total 
 class hours = 7.2 hours. Make up of missed classes will be at the discreti
 on of the course instructor.\n \nFee:  $380 to include tuition and textboo
 k\n \nPRE-REGISTRATION REQUIRED!! \n \nClass size: 20 participants\n \nIf 
 you are interested\, please sign up using the registration information bel
 ow with the course ID.\n \nTo Register: Follow the guidelines in the attac
 hed document using the course number in this posting. WVPST is adopting a 
 new registration platform that we believe will be more user-friendly. Shou
 ld you have any issues\, please contact Eva Godbey at eva.godbey@k12.wv.us
 .  \n \nLink: www.pstachio.wvnet.edu (If link doesn't work\, use Google Ch
 rome and search PSTachio.wvnet.edu)\n \nCourse ID: 24-127-03 WVPST Charles
 ton\n \nInstructor:  Kaleb French\n \nIf you have any questions or issues 
 registering\, please contact Eva Godbey at eva.godbey@k12.wv.us\n\n\n
CATEGORIES:WVPST Charleston
LOCATION:Culloden VFD\, 2102 3rd St.\, Culloden\, WV\, 25510\, United State
 s
GEO:38.4201392;-82.05825809999999
X-APPLE-STRUCTURED-LOCATION;VALUE=URI;X-ADDRESS=2102 3rd St.\, Culloden\, W
 V\, 25510\, United States;X-APPLE-RADIUS=100;X-TITLE=Culloden VFD:geo:38.4
 201392,-82.05825809999999
END:VEVENT
BEGIN:VTIMEZONE
TZID:America/New_York
X-LIC-LOCATION:America/New_York
BEGIN:DAYLIGHT
DTSTART:20230312T030000
TZOFFSETFROM:-0500
TZOFFSETTO:-0400
TZNAME:EDT
END:DAYLIGHT
END:VTIMEZONE
END:VCALENDAR