BEGIN:VCALENDAR
VERSION:2.0
PRODID:-//wp-events-plugin.com//7.2.3.1//EN
TZID:America/New_York
X-WR-TIMEZONE:America/New_York
BEGIN:VEVENT
UID:1277@wvpst.org
DTSTART;TZID=America/New_York:20200321T080000
DTEND;TZID=America/New_York:20200321T170000
DTSTAMP:20200319T003831Z
URL:https://wvpst.org/events/emergency-vehicle-operations-course-evoc-7/
SUMMARY:Emergency Vehicle Operations Course (EVOC) - Postponed
DESCRIPTION:EMERGENCY VEHICLE OPERATIONS\nThis 16-hour course is being cond
 ucted at Cheat Lake VFD\, Morgantown\, West Virginia (Monongalia County).
   Class dates are March 21-22\, from 8:00am - 5:00pm each day.   Perry 
 Barlow and Corky Thomas are the instructors.  In addition to didactic mat
 erial and driving skills completed during the in class portion\, students 
 must be signed off by their department head (Chief\, Agency Director\, etc
 .) after completion of the daily inspection exercise and operation of an e
 mergency vehicle on a public roadway.  Additional details on completing t
 hese activities will be provided during class.  Certificates will only be
  issued after ALL requirements have been completed.\n\nREGISTER: By clicki
 ng the link below or at the first class session\, however\, registration w
 ill be limited to 20 students so preregistration is recommended.\n\nPREREQ
 UISITES: Students must be at least 18 years old and hold a valid driver’
 s license.\n\nTUITION is $35 per student and the course textbook will be l
 oaned during the class for a fee of $10.  Fees may be paid with cash\, ch
 eck or money order made payable to Mountain State Educational Service Coop
 erative or MSESC.
CATEGORIES:WVPST Clarksburg
LOCATION:\, \, 
X-APPLE-STRUCTURED-LOCATION;VALUE=URI;X-ADDRESS=\, ;X-APPLE-RADIUS=100;X-TI
 TLE=:geo:0,0
END:VEVENT
BEGIN:VTIMEZONE
TZID:America/New_York
X-LIC-LOCATION:America/New_York
BEGIN:DAYLIGHT
DTSTART:20200308T030000
TZOFFSETFROM:-0500
TZOFFSETTO:-0400
TZNAME:EDT
END:DAYLIGHT
END:VTIMEZONE
END:VCALENDAR