BEGIN:VCALENDAR
VERSION:2.0
PRODID:-//wp-events-plugin.com//7.2.3.1//EN
TZID:America/New_York
X-WR-TIMEZONE:America/New_York
BEGIN:VEVENT
UID:2652@wvpst.org
DTSTART;TZID=America/New_York:20240120T080000
DTEND;TZID=America/New_York:20240120T160000
DTSTAMP:20231208T141047Z
URL:https://wvpst.org/events/emergency-vehicle-operations-course-evoc-30/
SUMMARY:Emergency Vehicle Operations Course (EVOC)
DESCRIPTION:EMERGENCY VEHICLE OPERATIONS\nThis 16-hour course is being cond
 ucted at Middleway VFC.  Class dates are January 20th and 21st from 8:00a
 m - 4:00pm each day.  Brian Mulligan is the instructor.\n\nIn addition to
  didactic material and driving skills completed during the in class portio
 n\, students must be signed off by leadership within their department (Chi
 ef\, Agency Director\, Training Officer\, etc.) after completion of a dail
 y inspection exercise and operation of an emergency vehicle on a public ro
 adway.  Additional details on completing these activities will be provide
 d during class.  Certificates will only be issued after ALL requirements 
 have been completed.\n\nPREREQUISITES: Students must be at least 18 years 
 old and hold a valid driver’s license.\n\nPre-registration is required.\
 n\nEVOC Flyer Middleway
CATEGORIES:WVPST Martinsburg
LOCATION:Middleway VFC\, 110 Dark Hill Road\, Kearneysville\, WV\, United S
 tates
GEO:39.2942416;-77.98039219999998
X-APPLE-STRUCTURED-LOCATION;VALUE=URI;X-ADDRESS=110 Dark Hill Road\, Kearne
 ysville\, WV\, United States;X-APPLE-RADIUS=100;X-TITLE=Middleway VFC:geo:
 39.2942416,-77.98039219999998
END:VEVENT
BEGIN:VTIMEZONE
TZID:America/New_York
X-LIC-LOCATION:America/New_York
BEGIN:STANDARD
DTSTART:20231105T010000
TZOFFSETFROM:-0400
TZOFFSETTO:-0500
TZNAME:EST
END:STANDARD
END:VTIMEZONE
END:VCALENDAR