BEGIN:VCALENDAR
VERSION:2.0
PRODID:-//wp-events-plugin.com//7.2.3.1//EN
TZID:America/New_York
X-WR-TIMEZONE:America/New_York
BEGIN:VEVENT
UID:2158@wvpst.org
DTSTART;TZID=America/New_York:20220820T080000
DTEND;TZID=America/New_York:20220821T170000
DTSTAMP:20220729T193954Z
URL:https://wvpst.org/events/emergency-vehicle-operations-course-evoc-21/
SUMMARY:Emergency Vehicle Operations Course (EVOC)
DESCRIPTION:EMERGENCY VEHICLE OPERATIONS\nThis 16-hour course is being cond
 ucted at James Rumsey Technical Center.  Class dates are August 20\,21\, 
 2022 from 8:00am - 4:00pm each day.  Susan Hromada is the instructor.\n\n
 In addition to didactic material and driving skills completed during the i
 n class portion\, students must be signed off by leadership within their d
 epartment (Chief\, Agency Director\, Training Officer\, etc.) after comple
 tion of a daily inspection exercise and operation of an emergency vehicle 
 on a public roadway.  Additional details on completing these activities w
 ill be provided during class.  Certificates will only be issued after ALL
  requirements have been completed.\n\nPREREQUISITES: Students must be at l
 east 18 years old and hold a valid driver’s license.\n\nTUITION is $35 p
 er student and the course textbook will be loaned during the class for a f
 ee of $10.\n\nPre-registration is required.\n\nJRTI EVOC Flyer
CATEGORIES:WVPST Martinsburg
LOCATION:James Rumsey Technical Institute\, 3274 Hedgesville Rd\, Martinsbu
 rg\, United States
GEO:39.5327798;-77.97906230000001
X-APPLE-STRUCTURED-LOCATION;VALUE=URI;X-ADDRESS=3274 Hedgesville Rd\, Marti
 nsburg\, United States;X-APPLE-RADIUS=100;X-TITLE=James Rumsey Technical I
 nstitute:geo:39.5327798,-77.97906230000001
END:VEVENT
BEGIN:VTIMEZONE
TZID:America/New_York
X-LIC-LOCATION:America/New_York
BEGIN:DAYLIGHT
DTSTART:20220313T030000
TZOFFSETFROM:-0500
TZOFFSETTO:-0400
TZNAME:EDT
END:DAYLIGHT
END:VTIMEZONE
END:VCALENDAR