BEGIN:VCALENDAR
VERSION:2.0
PRODID:-//wp-events-plugin.com//7.2.3.1//EN
TZID:America/New_York
X-WR-TIMEZONE:America/New_York
BEGIN:VEVENT
UID:1584@wvpst.org
DTSTART;TZID=America/New_York:20201114T080000
DTEND;TZID=America/New_York:20201115T160000
DTSTAMP:20201030T143341Z
URL:https://wvpst.org/events/emergency-vehicle-operations-course-evoc-10/
SUMMARY:Emergency Vehicle Operations Course (EVOC)
DESCRIPTION:EMERGENCY VEHICLE OPERATIONS\nThis 16-hour course is being cond
 ucted at Spelter VFD\, Spelter\, West Virginia (Harrison County).  Class 
 dates are November 14 &amp\; 15\, from 8:00am - 4:00pm each day.  Rodney 
 Strait is the instructor.  In addition to didactic material and driving s
 kills completed during the in class portion\, students must be signed off 
 by their department head (Chief\, Agency Director\, etc.) after completion
  of the daily inspection exercise and operation of an emergency vehicle on
  a public roadway.  Additional details on completing these activities wil
 l be provided during class.  Certificates will only be issued after ALL r
 equirements have been completed.\n\nREGISTER: By clicking the link below o
 r at the first class session\, however\, registration will be limited to 1
 5 students so preregistration is recommended.\n\nPREREQUISITES: Students m
 ust be at least 18 years old and hold a valid driver’s license.\n\nTUITI
 ON is $35 per student and the course textbook will be loaned during the cl
 ass for a fee of $10.  Textbooks are not available to purchase.  Fees ma
 y be paid with cash\, check or money order made payable to Mountain State 
 Educational Service Cooperative or MSESC.
CATEGORIES:WVPST Clarksburg
LOCATION:\, \, 
X-APPLE-STRUCTURED-LOCATION;VALUE=URI;X-ADDRESS=\, ;X-APPLE-RADIUS=100;X-TI
 TLE=:geo:0,0
END:VEVENT
BEGIN:VTIMEZONE
TZID:America/New_York
X-LIC-LOCATION:America/New_York
BEGIN:STANDARD
DTSTART:20201101T010000
TZOFFSETFROM:-0400
TZOFFSETTO:-0500
TZNAME:EST
END:STANDARD
END:VTIMEZONE
END:VCALENDAR