BEGIN:VCALENDAR
VERSION:2.0
PRODID:-//wp-events-plugin.com//7.2.3.1//EN
TZID:America/New_York
X-WR-TIMEZONE:America/New_York
BEGIN:VEVENT
UID:2994@wvpst.org
DTSTART;TZID=America/New_York:20260807T180000
DTEND;TZID=America/New_York:20260807T220000
DTSTAMP:20260414T143838Z
URL:https://wvpst.org/events/emergency-services-instructor-course-level-i-
 and-ii-6/
SUMMARY:Emergency Services Instructor Course Level I and II
DESCRIPTION:A Teaching Methodologies - Emergency Services Instructor Course
  Level I and II will be offered at Hampshire County Emergency Service Agen
 cy.\n\nThis course is IFSAC certified and will be offered over 2 weekends 
 and will meet the standards for NFPA Instructor I and NFPA Instructor II.\
 n\nDates: August 7-8-9\, 2026 and August 14-15-16\, 2026. Friday evenings 
 from 6 - 10pm and weekends from 8am - 6pm.\n\nCost: - This class will now 
 be covered through a grant and is free of charge for the student.\n\nSucce
 ssful completion of the course does not guarantee employment as a West Vir
 ginia Public Service Training Instructor. This Instructor Course will prep
 are the participant to deliver training in an EMS\, Fire\, or Law Enforcem
 ent Department. This course will allow participants to receive Instructor 
 I and II certification. In order to receive an Adult Teaching Permit from 
 the WV Department of Education\, the applicant must meet additional requir
 ements.\n\nPlease read the course flyer for additional information. PRE-RE
 GISTRATION IS REQUIRED.\n\nInstructor-Flyer-2026
CATEGORIES:WVPST Martinsburg
LOCATION:Hampshire County Emergency Services Agency\, 55 Suinrise Blvd\, Ro
 mney\, WV\, 26757\, United States
GEO:39.3329;-78.697238
X-APPLE-STRUCTURED-LOCATION;VALUE=URI;X-ADDRESS=55 Suinrise Blvd\, Romney\,
  WV\, 26757\, United States;X-APPLE-RADIUS=100;X-TITLE=Hampshire County Em
 ergency Services Agency:geo:39.3329,-78.697238
END:VEVENT
BEGIN:VTIMEZONE
TZID:America/New_York
X-LIC-LOCATION:America/New_York
BEGIN:DAYLIGHT
DTSTART:20260308T030000
TZOFFSETFROM:-0500
TZOFFSETTO:-0400
TZNAME:EDT
END:DAYLIGHT
END:VTIMEZONE
END:VCALENDAR