BEGIN:VCALENDAR
VERSION:2.0
PRODID:-//wp-events-plugin.com//7.2.3.1//EN
TZID:America/New_York
X-WR-TIMEZONE:America/New_York
BEGIN:VEVENT
UID:2653@wvpst.org
DTSTART;TZID=America/New_York:20240104T180000
DTEND;TZID=America/New_York:20240104T220000
DTSTAMP:20231211T124045Z
URL:https://wvpst.org/events/emergency-medical-responder-blended-format-2/
SUMMARY:Emergency Medical Responder - Blended Format
DESCRIPTION:EMERGENCY MEDICAL RESPONDER\n\n&nbsp\;\n\nThis 72-hour course w
 ill be conducted in a blended learning format.  Didactic content will be 
 delivered via the Jones and Bartlett Navigate Learning Management System\,
  with the in person class sessions being held at Warren District VFD\, Buc
 khannon\, West Virginia (Upshur County). Students must have a computer and
  reliable internet access in order to complete the assignments required fo
 r this class.  Students must also be self motivated and able to manage ti
 me well in order to complete required assignments on schedule leading up t
 o each in person class meeting.  Students MUST be present at the first cl
 ass session on Thursday\, January 4\, 2023\, in order to receive the cours
 e schedule and get set up with the necessary online accounts.  Additional
  in person class meetings will be held on January 13\, 21\, and 28 from 8a
 m to 4pm.  Lindsay Schrader is the course instructor.\n\nUpon successful 
 completion of the course\, students will be eligible for the NREMT (Nation
 al Registry of EMT’s) EMR examination (computer based and scheduled by s
 tudent at a Pearson Vue testing center).  Successful completion of the NR
 EMT EMR exam is the only route to WV Certification as an EMR.  Students a
 re only allowed to miss 10% of total course hours before being ineligible 
 to successfully complete the class and test NREMT.\n\nCLICK HERE TO REGIST
 ER FOR CLASS\n\nCourse tuition is $525\, which includes the student’s te
 xtbook\, Navigate LMS access online\, first attempt at the NREMT EMR exam.
   Costs associated with WVOEMS to cover initial certification and a crimi
 nal background check (for those seeking WV certification) are not included
  within course tuition and are the students responsibility.  Fees may be 
 paid with cash\, or check or money order made payable to MSESC. All fees a
 nd costs are subject to change.\n\nCOURSE FEES ARE DUE NO LATER THAN THE F
 IRST CLASS SESSION.  NO COURSE MATERIALS WILL BE ISSUED PRIOR TO PAYMENT.
 \n\nAmerican Heart Association Healthcare Provider CPR is taught as a requ
 ired portion of this course. For that reason we must publish the following
 :\n\nD I S C L A I M E R -- The American Heart Association strongly promot
 es knowledge and proficiency in BLS\, ACLS\, and PALS and has developed in
 structional materials for this purpose. Use of these materials in an educa
 tional course does not represent course sponsorship by the American Heart 
 Association. Any fees charged for such a course\, except for a portion of 
 fees needed for AHA course material\, do not represent income to the Assoc
 iation.\n\nPlease contact the Public Service Training – Clarksburg offic
 e at brian.potter@wvesc.org or 304-326-7581 with any questions.\n\n&nbsp\;
CATEGORIES:WVPST Clarksburg
LOCATION:Warren District VFD\, 5678 Clarksburg Road\, Buckhannon\, WV\, 262
 01\, United States
GEO:39.071339;-80.198284
X-APPLE-STRUCTURED-LOCATION;VALUE=URI;X-ADDRESS=5678 Clarksburg Road\, Buck
 hannon\, WV\, 26201\, United States;X-APPLE-RADIUS=100;X-TITLE=Warren Dist
 rict VFD:geo:39.071339,-80.198284
END:VEVENT
BEGIN:VTIMEZONE
TZID:America/New_York
X-LIC-LOCATION:America/New_York
BEGIN:STANDARD
DTSTART:20231105T010000
TZOFFSETFROM:-0400
TZOFFSETTO:-0500
TZNAME:EST
END:STANDARD
END:VTIMEZONE
END:VCALENDAR