BEGIN:VCALENDAR
VERSION:2.0
PRODID:-//wp-events-plugin.com//7.2.3.1//EN
TZID:America/New_York
X-WR-TIMEZONE:America/New_York
BEGIN:VEVENT
UID:1585@wvpst.org
DTSTART;TZID=America/New_York:20210104T180000
DTEND;TZID=America/New_York:20210104T220000
DTSTAMP:20201119T170104Z
URL:https://wvpst.org/events/emergency-medical-responder-9/
SUMMARY:Emergency Medical Responder
DESCRIPTION:EMERGENCY MEDICAL RESPONDER\n\n&nbsp\;\n\nThis 72-hour course w
 ill be conducted at Lumberport VFD\, Lumberport\, West Virginia (Harrison 
 County). Class dates will be January 4\, 6\, 9\, 10\, 11\, 13\, 18\, 20\, 
 23\, 24\, 25\, 27\, and 30.  Class times on weekdays will be 6pm-10pm and
  on weekends will be 8am-4:30pm.  Darlene Scott is the instructor.\n\nUpo
 n successful completion of the course\, students will be eligible for the 
 NREMT (National Registry of EMT’s) EMR examination (computer based and s
 cheduled by student at a Pearson Vue testing center).  Successful complet
 ion of the NREMT EMR exam is the only route to WV Certification as an EMR.
   Students are only allowed to miss 10% of total course hours before bein
 g ineligible to successfully complete the class and test NREMT.\n\nPRE-REG
 ISTER: Pre-register for this class by using the registration link below. 
  Course enrollment will be capped at 15 to facilitate COVID 19 best practi
 ce guidelines for group size and social distancing.\n\nCourse tuition is $
 250\, which includes the student’s first attempt at the NREMT EMR exam. 
 AAOS’s “Emergency Medical Responder” 6th edition textbook can be pur
 chased from the instructor at a cost of $105.00. Other costs associated wi
 th this course include $120 to WVOEMS to cover initial certification and a
  criminal background check costs. Fees may be paid with cash\, or check or
  money order made payable to MSESC. All fees and costs are subject to chan
 ge.\n\nAmerican Heart Association Healthcare Provider CPR is taught as a r
 equired portion of this course. For that reason we must publish the follow
 ing:\n\nD I S C L A I M E R -- The American Heart Association strongly pro
 motes knowledge and proficiency in BLS\, ACLS\, and PALS and has developed
  instructional materials for this purpose. Use of these materials in an ed
 ucational course does not represent course sponsorship by the American Hea
 rt Association. Any fees charged for such a course\, except for a portion 
 of fees needed for AHA course material\, do not represent income to the As
 sociation.\n\nPlease contact the Public Service Training – Clarksburg of
 fice at brian.potter@wvesc.org or 304-326-7581 with any questions.\n\n&nbs
 p\;
CATEGORIES:WVPST Clarksburg
END:VEVENT
BEGIN:VTIMEZONE
TZID:America/New_York
X-LIC-LOCATION:America/New_York
BEGIN:STANDARD
DTSTART:20201101T010000
TZOFFSETFROM:-0400
TZOFFSETTO:-0500
TZNAME:EST
END:STANDARD
END:VTIMEZONE
END:VCALENDAR