BEGIN:VCALENDAR
VERSION:2.0
PRODID:-//wp-events-plugin.com//7.2.3.1//EN
TZID:America/New_York
X-WR-TIMEZONE:America/New_York
BEGIN:VEVENT
UID:501@wvpst.org
DTSTART;TZID=America/New_York:20180601T180000
DTEND;TZID=America/New_York:20180601T220000
DTSTAMP:20180530T224616Z
URL:https://wvpst.org/events/driver-operator-pumper-7/
SUMMARY:Driver / Operator - Pumper
DESCRIPTION:Driver / Operator - Pumper\n\nA 40-hour Driver/Operator – Pum
 per class will be held at Franklin VFD starting with a registration night 
 on Friday\, June 1\, 2018 at 6:00 pm.  This class is commonly called “D
 PO”.  The class will be cancelled if the minimum number is not met. The
  class will meet evenings and weekends with the exact schedule TBD by the 
 instructor and class participants.Mike Alt is the instructor.  Prerequisi
 tes include Firefighter 1 and EVOC – Participants must provide verificat
 ion of prerequisites.  Class fee is $45.  Book is $80.\n\nClick here for
  a Course Flyer\n\n&nbsp\;
CATEGORIES:WVPST Martinsburg
LOCATION:Franklin VFD\, Mill Rd\, Franklin\, WV\, 26807\, United States
GEO:38.642663423240336;-79.32728929364015
X-APPLE-STRUCTURED-LOCATION;VALUE=URI;X-ADDRESS=Mill Rd\, Franklin\, WV\, 2
 6807\, United States;X-APPLE-RADIUS=100;X-TITLE=Franklin VFD:geo:38.642663
 423240336,-79.32728929364015
END:VEVENT
BEGIN:VTIMEZONE
TZID:America/New_York
X-LIC-LOCATION:America/New_York
BEGIN:DAYLIGHT
DTSTART:20180311T030000
TZOFFSETFROM:-0500
TZOFFSETTO:-0400
TZNAME:EDT
END:DAYLIGHT
END:VTIMEZONE
END:VCALENDAR