BEGIN:VCALENDAR
VERSION:2.0
PRODID:-//wp-events-plugin.com//7.2.3.1//EN
TZID:America/New_York
X-WR-TIMEZONE:America/New_York
BEGIN:VEVENT
UID:1758@wvpst.org
DTSTART;TZID=America/New_York:20210523T090000
DTEND;TZID=America/New_York:20210523T170000
DTSTAMP:20210512T145056Z
URL:https://wvpst.org/events/driver-operator-pumper-5/
SUMMARY:Driver Operator Pumper
DESCRIPTION:Driver Operator Pumper\n\nA 40-hour Driver Operator Pumper clas
 s will be held at Keyser Fire Department Station 2 starting May 23\, 2021 
 at 9 am.  The class schedule will be determined the first night of class.
  Course Fee is $45.  Textbook is $80.  Prerequisites are Fire Fighter 1 
 (or Fire Fighter 1 Module 1) and EVOC.\n\nDO - Pumper - Keyser VFD Course 
 Flyer
CATEGORIES:WVPST Martinsburg
LOCATION:Keyser VFD Station 2\, 1550 Cornell St\, Keyser\, WV\, 26726\, Uni
 ted States
GEO:39.4300627;-78.99389180000003
X-APPLE-STRUCTURED-LOCATION;VALUE=URI;X-ADDRESS=1550 Cornell St\, Keyser\, 
 WV\, 26726\, United States;X-APPLE-RADIUS=100;X-TITLE=Keyser VFD Station 2
 :geo:39.4300627,-78.99389180000003
END:VEVENT
BEGIN:VTIMEZONE
TZID:America/New_York
X-LIC-LOCATION:America/New_York
BEGIN:DAYLIGHT
DTSTART:20210314T030000
TZOFFSETFROM:-0500
TZOFFSETTO:-0400
TZNAME:EDT
END:DAYLIGHT
END:VTIMEZONE
END:VCALENDAR