BEGIN:VCALENDAR
VERSION:2.0
PRODID:-//wp-events-plugin.com//7.2.3.1//EN
TZID:America/New_York
X-WR-TIMEZONE:America/New_York
BEGIN:VEVENT
UID:1035@wvpst.org
DTSTART;TZID=America/New_York:20190910T180000
DTEND;TZID=America/New_York:20190910T220000
DTSTAMP:20190820T173542Z
URL:https://wvpst.org/events/driver-operator-pumper-14/
SUMMARY:Driver Operator Pumper
DESCRIPTION:Driver Operator Pumper\n\nA 40-hour Driver Operator Pumper clas
 s will be held at Citizens Fire Co in Charles Town\, WV starting Tuesday\,
  September 10\, 2019 at 6:00 pm.  The class will meet evenings at 6 pm an
 d weekends at 9 am on September 10\, 12\, 19\, 21\, 22\, 24\, 26\, 28 and 
 29.  Prerequisites include Firefighter 1 and EVOC.  Participants must pr
 ovide verification of prerequisites.  This class is commonly called "DPO"
 .  David Hess is the instructor.  Course Fee is $45.  Book is $80.\n\nC
 lick here for a Course Flyer
CATEGORIES:WVPST Martinsburg
LOCATION:Citizens Fire Co\, 245 Citizens Way\, Charles Town\, WV\, 25414\, 
 United States
GEO:39.2761532;-77.84574789999999
X-APPLE-STRUCTURED-LOCATION;VALUE=URI;X-ADDRESS=245 Citizens Way\, Charles 
 Town\, WV\, 25414\, United States;X-APPLE-RADIUS=100;X-TITLE=Citizens Fire
  Co:geo:39.2761532,-77.84574789999999
END:VEVENT
BEGIN:VTIMEZONE
TZID:America/New_York
X-LIC-LOCATION:America/New_York
BEGIN:DAYLIGHT
DTSTART:20190310T030000
TZOFFSETFROM:-0500
TZOFFSETTO:-0400
TZNAME:EDT
END:DAYLIGHT
END:VTIMEZONE
END:VCALENDAR