BEGIN:VCALENDAR
VERSION:2.0
PRODID:-//wp-events-plugin.com//7.2.3.1//EN
TZID:America/New_York
X-WR-TIMEZONE:America/New_York
BEGIN:VEVENT
UID:1015@wvpst.org
DTSTART;TZID=America/New_York:20191012T080000
DTEND;TZID=America/New_York:20191012T180000
DTSTAMP:20190731T193153Z
URL:https://wvpst.org/events/driver-operator-aerial-3/
SUMMARY:Driver / Operator - Aerial
DESCRIPTION:Driver / Operator Aerial\n\nA 40-hour Driver Operator Aerial cl
 ass will be held at Bedington VFD starting Saturday\, October 12\, 2019 at
  8:00 am.  The class will meet on Saturdays and Sundays\, October 12\, 13
 \, 19 and 20 from 8 am to 6 pm.  Prerequisites include EVOC and Firefight
 er 1.  Participants must provide verification of prerequisites.  Ed Sank
 beil is the instructor.  Course Fee is $45.  Textbook is $80.\n\nClick h
 ere for a Course Flyer
CATEGORIES:WVPST Martinsburg
LOCATION:Bedington VFD\, 775 Bedington Road\, Martinsburg\, WV\, 25404\, Un
 ited States
GEO:39.5236229;-77.90470440000001
X-APPLE-STRUCTURED-LOCATION;VALUE=URI;X-ADDRESS=775 Bedington Road\, Martin
 sburg\, WV\, 25404\, United States;X-APPLE-RADIUS=100;X-TITLE=Bedington VF
 D:geo:39.5236229,-77.90470440000001
END:VEVENT
BEGIN:VTIMEZONE
TZID:America/New_York
X-LIC-LOCATION:America/New_York
BEGIN:DAYLIGHT
DTSTART:20190310T030000
TZOFFSETFROM:-0500
TZOFFSETTO:-0400
TZNAME:EDT
END:DAYLIGHT
END:VTIMEZONE
END:VCALENDAR