BEGIN:VCALENDAR
VERSION:2.0
PRODID:-//wp-events-plugin.com//7.2.3.1//EN
TZID:America/New_York
X-WR-TIMEZONE:America/New_York
BEGIN:VEVENT
UID:1120@wvpst.org
DTSTART;TZID=America/New_York:20191019T090000
DTEND;TZID=America/New_York:20191019T160000
DTSTAMP:20191007T192700Z
URL:https://wvpst.org/events/drafting-dump-tank-operations/
SUMMARY:Drafting & Dump Tank Operations
DESCRIPTION:West Virginia Public Service Training will be offering a Drafti
 ng &amp\; Dump Tank Operations class on October 19-20\, 2019\, 9:00 am - 4
 :00 pm\, at Morrisvale VFD.\n\nInstructors:  Jason Estep &amp\; Doug Este
 p\n\nThere is no cost for this class.\n\nThere are no prerequisites.\n\nTo
  register\, please call Tammy Norman at (304) 766-0011 ext. 21
CATEGORIES:WVPST Charleston
LOCATION:Morrisvale VFD\, 6600 Horse Creek Rd.\, Spurlockville\, WV\, 25565
 \, United States
GEO:38.133934;-81.905943
X-APPLE-STRUCTURED-LOCATION;VALUE=URI;X-ADDRESS=6600 Horse Creek Rd.\, Spur
 lockville\, WV\, 25565\, United States;X-APPLE-RADIUS=100;X-TITLE=Morrisva
 le VFD:geo:38.133934,-81.905943
END:VEVENT
BEGIN:VTIMEZONE
TZID:America/New_York
X-LIC-LOCATION:America/New_York
BEGIN:DAYLIGHT
DTSTART:20190310T030000
TZOFFSETFROM:-0500
TZOFFSETTO:-0400
TZNAME:EDT
END:DAYLIGHT
END:VTIMEZONE
END:VCALENDAR