BEGIN:VCALENDAR
VERSION:2.0
PRODID:-//wp-events-plugin.com//7.2.3.1//EN
TZID:America/New_York
X-WR-TIMEZONE:America/New_York
BEGIN:VEVENT
UID:481@wvpst.org
DTSTART;TZID=America/New_York:20180522T090000
DTEND;TZID=America/New_York:20180522T170000
DTSTAMP:20180412T131900Z
URL:https://wvpst.org/events/cpr-instructor-course-2/
SUMMARY:CPR Instructor Course
DESCRIPTION:CPR and First Aid\n\nCardiopulmonary Resuscitation\, or CPR\, i
 s a simple lifesaving technique\, but training is required for proper perf
 ormance.  Public Service Training offers CPR for both the average laypers
 on and the professional healthcare provider.  CPR classes include AED tra
 ining.  Basic First Aid skills allow the proper treatment of minor incide
 nts.  For more serious injuries and illnesses First Aid training prepares
  you for what to do until help arrives.  For more information contact you
 r local Public Service Training Coordinator.\n\n**This course will teach y
 ou to instruct the above mentioned courses.**\n\nCost:  $250\n\nInstructo
 r:  Mike Tanner\n\nYou may copy the below information into an email and s
 ubmit to eva.godbey@k12.wv.us to register:\n\nName:  ____________________
 _________________________________________________\n\n Date of Birth:  __
 _____________________________________________________________\n\n Address
 : ____________________________________________________________________\n\n
  City/State:  _____________________________________________ Postal Code:
  __________\n\n Phone Number: ________________ Email Address: ___________
 ______________________\n\n Affiliation: _________________________________
 _________________________________\n\nFor Registration please contact Ms. E
 va Godbey at 304-865-1311.
CATEGORIES:WVPST Parkersburg
LOCATION:RESA 5\, 2507 9th Ave\, Parkersburg\, WV\, 26101\, United States
GEO:39.2504603;-81.5470722
X-APPLE-STRUCTURED-LOCATION;VALUE=URI;X-ADDRESS=2507 9th Ave\, Parkersburg\
 , WV\, 26101\, United States;X-APPLE-RADIUS=100;X-TITLE=RESA 5:geo:39.2504
 603,-81.5470722
END:VEVENT
BEGIN:VTIMEZONE
TZID:America/New_York
X-LIC-LOCATION:America/New_York
BEGIN:DAYLIGHT
DTSTART:20180311T030000
TZOFFSETFROM:-0500
TZOFFSETTO:-0400
TZNAME:EDT
END:DAYLIGHT
END:VTIMEZONE
END:VCALENDAR