BEGIN:VCALENDAR
VERSION:2.0
PRODID:-//wp-events-plugin.com//7.2.3.1//EN
TZID:America/New_York
X-WR-TIMEZONE:America/New_York
BEGIN:VEVENT
UID:2868@wvpst.org
DTSTART;TZID=America/New_York:20251217T090000
DTEND;TZID=America/New_York:20251217T130000
DTSTAMP:20251212T140323Z
URL:https://wvpst.org/events/cpr-first-aid/
SUMMARY:CPR First Aid
DESCRIPTION:CPR First Aid\nWednesday 12/17/2025\n\n0900-1300\n\nWVPST-Wheel
 ing\n\n1704 Market St\n\nWheeling WV 26003 (Suite) 322\n\n&nbsp\;\n\n&nbsp
 \;
CATEGORIES:WVPST Wheeling
LOCATION:WVPST-Wheeling\, 1704 Market Street\, Wheeling\, WV\, 26003\, Whee
 ling\, United States
GEO:40.063332;-80.721327
X-APPLE-STRUCTURED-LOCATION;VALUE=URI;X-ADDRESS=1704 Market Street\, Wheeli
 ng\, WV\, 26003\, Wheeling\, United States;X-APPLE-RADIUS=100;X-TITLE=WVPS
 T-Wheeling:geo:40.063332,-80.721327
END:VEVENT
BEGIN:VTIMEZONE
TZID:America/New_York
X-LIC-LOCATION:America/New_York
BEGIN:STANDARD
DTSTART:20251102T010000
TZOFFSETFROM:-0400
TZOFFSETTO:-0500
TZNAME:EST
END:STANDARD
END:VTIMEZONE
END:VCALENDAR