BEGIN:VCALENDAR
VERSION:2.0
PRODID:-//wp-events-plugin.com//7.2.3.1//EN
TZID:America/New_York
X-WR-TIMEZONE:America/New_York
BEGIN:VEVENT
UID:2993@wvpst.org
DTSTART;TZID=America/New_York:20260415T090000
DTEND;TZID=America/New_York:20260415T130000
DTSTAMP:20260331T184242Z
URL:https://wvpst.org/events/cpr-first-aid-aed-class/
SUMMARY:CPR First Aid & AED class
DESCRIPTION:CPR First Aid &amp\; AED class\nLOCATION: 1704 Market Street Wh
 eeling WV 26003  (Room 322)\n\n\n\nSTART DATE/TIME: 04/15/2026 0900-1300\
 n\n\n\n \n\nINSTRUCTOR:  A.G. Lucas\n\nHOURS: 4\n\nPrerequisites: N/A\nC
 LASS COST: $55\n\n\n\n\nPre-registration required online at www.wvpst.org.
  Select Wheeling and click on the class in the calendar. Minimum of 10 stu
 dents required.\n\n \n\nContact WVPST at 304-214-8971\n\n \n\n 
CATEGORIES:WVPST Wheeling
LOCATION:WVPST-Wheeling\, 1704 Market Street\, Wheeling\, WV\, 26003\, Whee
 ling\, United States
GEO:40.063332;-80.721327
X-APPLE-STRUCTURED-LOCATION;VALUE=URI;X-ADDRESS=1704 Market Street\, Wheeli
 ng\, WV\, 26003\, Wheeling\, United States;X-APPLE-RADIUS=100;X-TITLE=WVPS
 T-Wheeling:geo:40.063332,-80.721327
END:VEVENT
BEGIN:VTIMEZONE
TZID:America/New_York
X-LIC-LOCATION:America/New_York
BEGIN:DAYLIGHT
DTSTART:20260308T030000
TZOFFSETFROM:-0500
TZOFFSETTO:-0400
TZNAME:EDT
END:DAYLIGHT
END:VTIMEZONE
END:VCALENDAR