BEGIN:VCALENDAR
VERSION:2.0
PRODID:-//wp-events-plugin.com//7.2.3.1//EN
TZID:America/New_York
X-WR-TIMEZONE:America/New_York
BEGIN:VEVENT
UID:3013@wvpst.org
DTSTART;TZID=America/New_York:20260506T170000
DTEND;TZID=America/New_York:20260506T213000
DTSTAMP:20260421T194708Z
URL:https://wvpst.org/events/community-aha-heartsaver-cpr-first-aid-class-
 13/
SUMMARY:Community AHA Heartsaver CPR & First Aid Class
DESCRIPTION:An American Heart Association Heartsaver CPR/AED/First Aid cour
 se is being held May 6\, 2026 starting at 5pm at United Technical Center\,
  Clarksburg\, WV 26301.  This class is designed for the lay rescuer (lay 
 public\, home health/in home care\, schools\, industry\, OSHA compliance\,
  non-EMS trained firefighters\, etc.) and is not a healthcare provider cou
 rse.  Cost of the class is $45 per person\, payable the night of class by
  cash\, or check/money order payable to MSESC.\n\nClick here to register. 
CATEGORIES:WVPST Clarksburg
LOCATION:United Technical Center\, 251 Marietta St.\, Clarksburg\, West Vir
 ginia\, 26301\, United States
GEO:39.310776;-80.358852
X-APPLE-STRUCTURED-LOCATION;VALUE=URI;X-ADDRESS=251 Marietta St.\, Clarksbu
 rg\, West Virginia\, 26301\, United States;X-APPLE-RADIUS=100;X-TITLE=Unit
 ed Technical Center:geo:39.310776,-80.358852
END:VEVENT
BEGIN:VTIMEZONE
TZID:America/New_York
X-LIC-LOCATION:America/New_York
BEGIN:DAYLIGHT
DTSTART:20260308T030000
TZOFFSETFROM:-0500
TZOFFSETTO:-0400
TZNAME:EDT
END:DAYLIGHT
END:VTIMEZONE
END:VCALENDAR