BEGIN:VCALENDAR
VERSION:2.0
PRODID:-//wp-events-plugin.com//7.2.3.1//EN
TZID:America/New_York
X-WR-TIMEZONE:America/New_York
BEGIN:VEVENT
UID:1031@wvpst.org
DTSTART;TZID=America/New_York:20190919T090000
DTEND;TZID=America/New_York:20190919T170000
DTSTAMP:20190820T174656Z
URL:https://wvpst.org/events/cads/
SUMMARY:CADS
DESCRIPTION:CADS\n\nA Certified Ambulance Documentation Specialist (CADS) c
 lass will be held at the Byrd Health Services Building on the campus of WV
 U Berkeley Medical Center in Martinsburg\, WV on Thursday\, September 19\,
  2019 from 9 am to 5 pm.  Participants who pass the final test will recei
 ve certification from the National Academy of Ambulance Coding\, Inc. (NAA
 C).  There is no charge for this training.  Lunch is included.  Preregi
 stration is required no later than September 10.  Having CADS certificati
 on shows a true commitment to quality care and top-notch documentation.  
 A goal of the CADS training is for participants to be able to consistently
  produce high quality patient care reports.\n\nClick Here for a CADS Broch
 ure\n\nClick Here for a CADS Class Flyer\n\n&nbsp\;
CATEGORIES:WVPST Martinsburg
LOCATION:Byrd Health Services Building\, 2500 Foundation Way\, Martinsburg\
 , WV\, 25401\, United States
GEO:39.472901;-77.98060799999996
X-APPLE-STRUCTURED-LOCATION;VALUE=URI;X-ADDRESS=2500 Foundation Way\, Marti
 nsburg\, WV\, 25401\, United States;X-APPLE-RADIUS=100;X-TITLE=Byrd Health
  Services Building:geo:39.472901,-77.98060799999996
END:VEVENT
BEGIN:VTIMEZONE
TZID:America/New_York
X-LIC-LOCATION:America/New_York
BEGIN:DAYLIGHT
DTSTART:20190310T030000
TZOFFSETFROM:-0500
TZOFFSETTO:-0400
TZNAME:EDT
END:DAYLIGHT
END:VTIMEZONE
END:VCALENDAR