BEGIN:VCALENDAR
VERSION:2.0
PRODID:-//wp-events-plugin.com//7.2.3.1//EN
TZID:America/New_York
X-WR-TIMEZONE:America/New_York
BEGIN:VEVENT
UID:2487@wvpst.org
DTSTART;TZID=America/New_York:20230531T090000
DTEND;TZID=America/New_York:20230531T170000
DTSTAMP:20230522T175854Z
URL:https://wvpst.org/events/bls-instructor-4/
SUMMARY:BLS Instructor
DESCRIPTION:WVPST is pleased to announce a BLS Instructor Course on May 31\
 , 2023 from 0900-1700 at WVPST Dunbar (501 22nd St.\, Dunbar\, WV 25064).\
 n\nDescription: This course will allow the individual to teach both Heart
 saver and Basic Life Support CPR courses within ones agency or department.
 \n\nCost: $150 to include Instructor Manuals handed out at class on 5/31/
 23\n\nDate:  May 31\, 2023\n\nTime: 0900-1700\n\nLocation: 501 22nd St.
 \, Dunbar\, WV 25064\n\nPlease Note: This does not guarantee employment w
 ith Mountain State ESC.\n\nPre-Requisites: Students MUST possess a curren
 t BLS card. Students MUST complete a $38 online BLS Instructor Essentials
  Course prior to coming to class on 5/31/23 and provide certificates to ev
 a.godbey@k12.wv.us or bring with student to class.\n\nPRE-REGISTRATION REQ
 UIRED!!  Class is limited to the first 20 people that pre-register.\n\nTo
  Register: Follow the guidelines in the attached document using the course
  number in this posting. WVPST is adopting a new registration platform tha
 t we believe will be more user-friendly. Should you have any issues\, plea
 se contact Eva Godbey at eva.godbey@k12.wv.us. \n\nLink: www.pstachio.wvn
 et.edu (If link doesn't work\, use Google Chrome and search PSTachio.wvnet
 .edu)\n\nCourse ID: 23-570-03 WVPST Charleston\n\nIf you have any question
 s or issues registering\, please contact Eva Godbey at eva.godbey@k12.wv.
 us\n\n
CATEGORIES:WVPST Charleston
LOCATION:WVPST - Charleston\, 501 22nd St.\, Dunbar\, 25064\, United States
GEO:38.366469;-81.74986519999999
X-APPLE-STRUCTURED-LOCATION;VALUE=URI;X-ADDRESS=501 22nd St.\, Dunbar\, 250
 64\, United States;X-APPLE-RADIUS=100;X-TITLE=WVPST - Charleston:geo:38.36
 6469,-81.74986519999999
END:VEVENT
BEGIN:VTIMEZONE
TZID:America/New_York
X-LIC-LOCATION:America/New_York
BEGIN:DAYLIGHT
DTSTART:20230312T030000
TZOFFSETFROM:-0500
TZOFFSETTO:-0400
TZNAME:EDT
END:DAYLIGHT
END:VTIMEZONE
END:VCALENDAR